{"text_format":"1","workbook":"xlsx","n_sheets":4,"sheets":["Instructions","erf Compare","Differences","Transport Calc Compare"],"not_rendered":{"charts":10,"images":2,"macros":1,"external_links":0,"defined_names":5,"comments":0,"pivot_tables":0},"unopened":[],"bounds":{"document_bytes":16777216,"sheet_cells":100000,"rows_first":2000,"rows_last":500,"rows_between":2000,"halvings":0,"cell_chars":16384,"cell_head_chars":4096},"cells_cut":0,"cells_raw":0,"read":"whole","date_system":"1900"}

{"sheet":"Instructions","index":0,"n_rows":0,"n_cols":0,"rows_kept":0,"cut":false,"hidden":false,"merged":[]}

{"sheet":"erf Compare","index":1,"n_rows":123,"n_cols":9,"rows_kept":123,"cut":false,"hidden":false,"merged":[]}
["Argument","Series","XL 2010","Presserf","Winitzki","Abramowitz 4","Abramowitz 6","Lether1","Lether2"]
[6,{"$f":"deverf(A2)","v":1},{"$f":"ERF(A2)","v":1},{"$f":"presserf(A2)","v":1},{"$f":"winierf(A2)","v":1},{"$f":"abra4(A2)","v":0.99999999373531145},{"$f":"abra6(A2)","v":1},{"$f":"lether1(A2)","v":0.99999999999998479},{"$f":"lether2(A2)","v":0.99999999999999989}]
[{"$f":"A2-0.1","v":5.9},{"$f":"deverf(A3)","v":0.99999999999999989},{"$f":"ERF(A3)","v":0.99999999999999989},{"$f":"presserf(A3)","v":0.99999999999999989},{"$f":"winierf(A3)","v":0.99999999999999989},{"$f":"abra4(A3)","v":0.9999999919303636},{"$f":"abra6(A3)","v":0.99999999999999989},{"$f":"lether1(A3)","v":0.99999999999996092},{"$f":"lether2(A3)","v":0.99999999999999978}]
[{"$f":"A3-0.1","v":5.8000000000000007},0.99999999999999978,0.99999999999999978,0.99999999999999978,0.99999999999999944,0.99999998956684188,0.99999999999999978,0.9999999999999013,0.99999999999999944]
[5.7000000000000011,0.99999999999999922,0.99999999999999922,0.99999999999999922,0.99999999999999833,0.9999999864598067,0.99999999999999922,0.99999999999975397,0.99999999999999822]
[5.6000000000000014,0.99999999999999756,0.99999999999999767,0.99999999999999767,0.99999999999999478,0.9999999823590483,0.99999999999999756,0.99999999999939559,0.99999999999999478]
[5.5000000000000018,0.99999999999999245,0.99999999999999267,0.99999999999999267,0.99999999999998401,0.99999997692461784,0.99999999999999256,0.99999999999853562,0.99999999999998446]
[5.4000000000000021,0.99999999999997691,0.99999999999997768,0.99999999999997768,0.99999999999995193,0.99999996969264671,0.99999999999997757,0.99999999999650069,0.99999999999995504]
[5.3000000000000025,0.9999999999999315,0.99999999999993383,0.99999999999993383,0.99999999999985845,0.99999996002738833,0.99999999999993328,0.99999999999175393,0.99999999999987199]
[5.2000000000000028,0.99999999999980038,0.99999999999980749,0.99999999999980749,0.99999999999959099,0.99999994705362294,0.99999999999980604,0.99999999998083633,0.99999999999964251]
[5.1000000000000032,0.99999999999942957,0.99999999999945066,0.99999999999945066,0.99999999999884093,0.99999992956095218,0.99999999999944666,0.9999999999560798,0.99999999999901912]
[5.0000000000000036,0.99999999999840139,0.99999999999846256,0.99999999999846256,0.99999999999677847,0.99999990586766485,0.99999999999845224,0.99999999990073218,0.99999999999735767]
[4.9000000000000039,0.99999999999560629,0.99999999999578104,0.99999999999578104,0.99999999999121869,0.99999987362619103,0.99999999999575462,0.99999999977873644,0.99999999999300959]
[4.8000000000000043,0.99999999998815792,0.99999999998864786,0.99999999998864786,0.99999999997652445,0.99999982954377609,0.99999999998858191,0.99999999951362739,0.99999999998183897]
[4.7000000000000046,0.99999999996869926,0.9999999999700474,0.9999999999700474,0.99999999993844735,0.99999976897953002,0.99999999996988664,0.99999999894564706,0.99999999995366584]
[4.600000000000005,0.99999999991886324,0.99999999992250399,0.99999999992250399,0.99999999984170707,0.99999968536038386,0.99999999992212085,0.9999999977459656,0.99999999988391253]
[4.5000000000000053,0.99999999979373355,0.99999999980338394,0.99999999980338394,0.99999999960072172,0.99999956933055723,0.99999999980249143,0.9999999952478219,0.99999999971437714]
[4.4000000000000057,0.99999999948572049,0.99999999951082896,0.99999999951082907,0.99999999901212233,0.99999940750710647,0.99999999950879737,0.99999999011941798,0.99999999930988059]
[4.300000000000006,0.99999999874239931,0.99999999880652823,0.99999999880652835,0.99999999760249603,0.99999918065061244,0.99999999880201074,0.99999997974044119,0.99999999836250786]
[4.2000000000000064,0.99999999698371134,0.99999999714450583,0.99999999714450605,0.99999999429231512,0.99999886096378487,0.99999999713469589,0.99999995903291305,0.99999999618444058]
[4.1000000000000068,0.99999999290414587,0.99999999329997236,0.99999999329997291,0.99999998667026069,0.99999840808431995,0.99999999327917399,0.99999991830455826,0.99999999126904882]
[4.0000000000000071,0.99999998362601494,0.99999998458274209,0.9999999845827432,0.99999996946053449,0.99999776311501254,0.99999998453970418,0.99999983933613523,0.99999998038042381]
[3.900000000000007,0.99999996293706639,0.99999996520775136,0.99999996520775347,0.99999993135688536,0.99999683969271114,0.99999996512085976,0.99999968840087061,0.99999995670448949]
[3.8000000000000069,0.99999991770370589,0.99999992299607254,0.99999992299607621,0.99999984862767821,0.99999551057487646,0.99999992282497729,0.99999940401970133,0.99999990617429368]
[3.7000000000000068,0.99999982073434523,0.99999983284894212,0.99999983284894789,0.99999967248703248,0.9999935874210143,0.99999983252051716,0.99999887584754454,0.99999980032338054]
[3.6000000000000068,0.99999961689876227,0.99999964413700704,0.99999964413701437,0.99999930471641119,0.99999079021730541,0.99999964352274606,0.99999790889343565,0.99999958268905509]
[3.5000000000000067,0.99999919674143201,0.99999925690162761,0.99999925690163238,0.99999855167507201,0.9999867009099318,0.99999925578286397,0.99999616394558333,0.99999914351360508]
[3.4000000000000066,0.99999834746400496,0.9999984780066371,0.999998478006624,0.99999703953663299,0.99998069293399916,0.99999847602371372,0.99999306013543354,0.99999827372321792]
[3.3000000000000065,0.99999694229041225,0.99999694229020353,0.99999694229013136,0.99999406170258287,0.9999718239399753,0.9999969388725739,0.99998761845407014,0.99999658310987161]
[3.2000000000000064,0.99999397423876735,0.99999397423884828,0.99999397423861791,0.99998831062711535,0.99995867237707714,0.99999396851601674,0.99997821505875795,0.99999335822978597]
[3.1000000000000063,0.99998835134265429,0.99998835134263275,0.99998835134202702,0.99997741785685312,0.99993908861095193,0.9999883420420016,0.99996219967317834,{"$f":"lether2(A31)","v":0.99998732141260926}]
[3.0000000000000062,0.99997790950301912,0.99997790950300136,0.9999779095015785,0.99995718457390592,0.99990981641732479,0.99997789485110222,0.99993531667169167,0.99997623190331297]
[2.9000000000000061,0.99995890212190996,0.99995890212190053,0.99995890211882399,0.99992032695339839,0.99986591897277144,0.99995887978039688,0.99989084420313157,0.99995624202275124]
[2.800000000000006,0.99992498680533026,0.99992498680533459,0.99992498679912867,0.99985448380892727,0.99979991230156118,0.99992495389105485,0.99981834017465787,0.99992088429671178]
[2.700000000000006,0.99986566726004911,0.99986566726005943,0.99986566724831616,0.99973913858189001,0.99970046564204951,0.99986562051470407,0.99970185425057168,0.99985951991909716]
[2.6000000000000059,0.99976396558347114,0.99976396558347069,0.99976396556261726,0.99954099926273066,0.99955046974907524,0.9997639017652199,0.99951743480642763,0.99975502703294172]
[2.5000000000000058,0.99959304798255666,0.99959304798255511,0.99959304794795267,0.99920727255008468,0.99932419977221065,0.99959296453660595,0.99922973350430944,0.99958045493116376]
[2.4000000000000057,0.99931148610335752,0.99931148610335496,0.99931148605026376,0.99865618947350054,0.99898321229052334,0.99931138211800519,0.9987874946499723,0.99929432794245976]
[2.3000000000000056,0.99885682340264303,0.99885682340264337,0.99885682332895231,0.99776413256339658,0.99847052807152936,0.99885670076231603,0.99811772115445896,0.99883426675495535]
[2.2000000000000055,0.99813715370201772,0.99813715370201817,0.99813715361400268,0.99634884230493559,0.99770258939026413,0.99813701821118817,0.99711834555397827,0.99810862737001937]
[2.1000000000000054,0.9970205333436678,0.99702053334366714,0.99702053326615703,0.99414852369582118,0.99655849083318293,0.99702039544075816,0.99564931657861377,0.99698596530271189]
[2.0000000000000053,0.99532226501895382,0.99532226501895282,0.99532226501066612,0.99079732262251075,0.99486613861257545,0.99532213958121896,0.99352215269509137,0.99528234227630208]
[1.9000000000000052,0.99279042923525818,0.99279042923525762,0.99279042940790885,0.98579867853967218,0.99238538965928502,0.99279033397664096,0.9904882249153717,0.99274682597779551]
[1.8000000000000052,0.98909050163573065,0.98909050163573098,0.98909050217097905,0.97849952738693535,0.98878894950159268,0.9890904538115266,0.98622631710675746,0.98904599715773434]
[1.7000000000000051,0.98379045859077552,0.98379045859077485,0.98379045974163526,0.96807018570625925,0.9836429034543831,0.98379047020760668,0.98033036822072206,0.98374885381787136]
[1.600000000000005,0.9763483833446448,0.97634838334464447,0.97634838539872415,0.95349681375368822,0.9763901196355208,0.97634845580629037,0.97229870822972486,0.97631413548685442]
[1.5000000000000049,0.96610514647531176,0.96610514647531132,0.96610514965047578,0.93359525945021526,0.96634107656101609,0.96610526640297256,0.96152652137493477,0.96608268645265005]
[1.4000000000000048,0.95228511976264985,0.95228511976264962,0.95228512401117982,0.9070562280858524,0.95267737025070087,0.95228525826851618,0.94730365047468068,0.95227790092820708]
[1.3000000000000047,0.93400794494065376,0.93400794494065342,0.93400794967126211,0.87253130058895367,{"$f":"abra4(A49)","v":0.93447255630933534},0.93400806243855294,0.92882012045333728,0.93401738561630931]
[1.2000000000000046,0.91031397822963689,0.91031397822963656,0.9103139820354389,0.82876643541866302,{"$f":"abra4(A50)","v":0.91073257337464841},0.9103140355062137,0.90518182142172465,0.91033857794464113]
[1.1000000000000045,0.88020506957408373,0.88020506957408329,0.88020507018376404,0.77478347077973553,0.88045388093309285,0.88020504320359738,0.8754385629160184,0.88024005454166754]
[1.0000000000000044,0.842700792949717,0.84270079294971667,0.84270078776000856,0.71010052393037104,0.8426926633921914,0.84270068974759182,0.83862611528995468,0.84273862449311554]
[0.90000000000000446,0.79690821242283483,0.79690821242283438,0.79690819999259555,0.63496971857413109,0.79663486259714444,0.79690807491367022,0.79382284648939794,0.79694012425623539]
[0.80000000000000449,0.74210096470766329,0.74210096470766307,0.74210094723380637,0.55059731432025094,0.74165640037914282,0.74210085974219442,0.74022014676988346,0.74211936658266164]
[0.70000000000000451,0.67780119383742199,0.67780119383742166,0.67780117954390684,0.45930041280608325,0.6773668630282762,0.67780118185610605,0.67720408003642252,0.6778023389841269]
[0.60000000000000453,0.6038560908479299,0.60385609084792946,0.60385609331531032,0.3645502903547625,0.60363763019702343,0.6038561848494407,0.6044437523773597,0.60384198709148296]
[0.50000000000000455,0.52049987781305085,0.52049987781305063,0.52049990772324661,0.27085924378440251,0.52062482731721738,0.52050001630475085,0.52197996207590813,0.52047824716876456]
[0.40000000000000457,0.428392355046673,0.42839235504667289,0.42839240289896219,0.18348802540125919,0.42880566253399244,0.4283924234672889,0.43030606281114092,0.42837378634048617]
[0.3000000000000046,0.32862675945913239,0.32862675945913222,0.32862678410359081,0.10798333231340063,0.32905100303225654,0.32862668272901685,0.33043192976685887,0.32861930561869063]
[0.20000000000000459,0.22270258921048353,0.22270258921048347,0.22270255932904837,4.9593690415536518E-2,0.22275546501286281,0.2227024578583208,0.22392174543806187,0.22270606435073903]
[0.10000000000000459,0.11246291601829007,0.11246291601829002,0.11246292877057995,1.2647721433490244E-2,0.11203713100733015,0.11246296562220094,0.11289722780204015,0.11246794071406387]
[4.5796699765787707E-15,5.1676041937442816E-15,5.1676041937442792E-15,-2.9999995376783772E-8,0,5.3290705182007514E-15,1.0000053810195475E-9,5.2180482157382357E-15,5.1409749938016724E-15]
[-9.9999999999995426E-2,-0.11246291601827985,-0.11246291601827979,-0.11246292877056985,-1.2647721433487913E-2,-0.11203713100732016,-0.11246296562219066,-0.11289722780202982,-0.11246794071405361]
[-0.19999999999999543,-0.22270258921047359,-0.22270258921047353,-0.22270255932903849,-4.9593690415532077E-2,-0.22275546501285304,-0.2227024578583108,-0.22392174543805188,-0.22270606435072912]
[-0.29999999999999544,-0.32862675945912301,-0.32862675945912273,-0.32862678410358148,-0.10798333231339441,-0.32905100303224744,-0.32862668272900702,-0.33043192976684943,-0.32861930561868125]
[-0.39999999999999547,-0.42839235504666429,-0.42839235504666412,-0.42839240289895342,-0.18348802540125164,-0.42880566253398367,-0.42839242346728007,-0.43030606281113226,-0.42837378634047735]
[-0.49999999999999545,{"$f":"deverf(A67)","v":-0.52049987781304285},{"$f":"ERF(A67)","v":-0.52049987781304263},{"$f":"presserf(A67)","v":-0.52049990772323862},{"$f":"winierf(A67)","v":-0.27085924378439419},-0.5206248273172096,{"$f":"abra6(A67)","v":-0.52050001630474296},{"$f":"lether1(A67)","v":-0.52197996207590025},{"$f":"lether2(A67)","v":-0.52047824716875646}]
[{"$f":"A67-0.1","v":-0.59999999999999543},-0.60385609084792258,-0.60385609084792224,-0.6038560933153031,-0.36455029035475384,-0.60363763019701644,-0.60385618484943349,-0.60444375237735271,-0.60384198709147585]
[-0.6999999999999954,-0.67780119383741566,-0.67780119383741533,-0.67780117954390051,-0.4593004128060747,-0.67736686302826987,-0.67780118185609983,-0.6772040800364163,-0.67780233898412057]
[-0.79999999999999538,-0.74210096470765785,-0.74210096470765785,-0.74210094723380116,-0.55059731432024295,-0.74165640037913749,-0.74210085974218909,-0.74022014676987813,-0.7421193665826562]
[-0.89999999999999536,-0.79690821242283039,-0.79690821242282972,-0.79690819999259088,-0.63496971857412388,-0.79663486259713978,-0.79690807491366555,-0.79382284648939339,-0.79694012425623084]
[-0.99999999999999534,-0.84270079294971323,-0.8427007929497129,-0.84270078776000479,-0.7101005239303646,-0.84269266339218762,-0.84270068974758805,-0.83862611528995101,-0.84273862449311177]
[-1.0999999999999954,-0.88020506957408085,-0.88020506957408018,-0.88020507018376104,-0.77478347077973009,-0.88045388093308985,-0.88020504320359438,-0.87543856291601541,-0.88024005454166443]
[-1.1999999999999955,-0.91031397822963456,-0.91031397822963422,-0.91031398203543645,-0.82876643541865858,-0.91073257337464597,-0.91031403550621126,-0.90518182142172232,-0.91033857794463868]
[-1.2999999999999956,-0.93400794494065209,-0.93400794494065154,-0.93400794967126022,-0.87253130058895012,-0.93447255630933346,-0.93400806243855106,-0.9288201204533354,-0.93401738561630743]
[-1.3999999999999957,-0.95228511976264851,-0.95228511976264807,-0.95228512401117837,-0.90705622808584963,-0.95267737025069943,-0.95228525826851473,-0.94730365047467913,-0.95227790092820563]
[-1.4999999999999958,-0.96610514647531054,-0.96610514647531021,-0.96610514965047467,-0.93359525945021316,-0.96634107656101509,-0.96610526640297145,-0.96152652137493366,-0.96608268645264905]
[-1.5999999999999959,-0.97634838334464424,-0.97634838334464369,-0.97634838539872337,-0.95349681375368656,-0.97639011963552003,-0.97634845580628959,-0.97229870822972408,-0.97631413548685364]
[-1.699999999999996,-0.98379045859077507,-0.9837904585907743,-0.9837904597416347,-0.96807018570625814,-0.98364290345438254,-0.98379047020760613,-0.9803303682207215,-0.98374885381787081]
[-1.799999999999996,-0.98909050163573109,-0.98909050163573053,-0.9890905021709786,-0.97849952738693458,-0.98878894950159235,-0.98909045381152616,-0.98622631710675701,-0.989045997157734]
[-1.8999999999999961,-0.99279042923525807,-0.9927904292352574,-0.99279042940790863,-0.98579867853967162,-0.9923853896592848,-0.99279033397664063,-0.99048822491537136,-0.99274682597779529]
[-1.9999999999999962,-0.99532226501895382,-0.9953222650189526,-0.9953222650106659,-0.9907973226225103,-0.99486613861257522,-0.99532213958121885,-0.99352215269509114,-0.99528234227630186]
[-2.0999999999999961,-0.9970205333436678,-0.99702053334366691,-0.99702053326615692,-0.99414852369582096,-0.99655849083318282,-0.99702039544075793,-0.99564931657861366,-0.99698596530271177]
[-2.1999999999999962,-0.99813715370201883,-0.99813715370201805,-0.99813715361400257,-0.99634884230493548,-0.99770258939026402,-0.99813701821118817,-0.99711834555397816,-0.99810862737001937]
[-2.2999999999999963,-0.99885682340264625,-0.99885682340264337,-0.99885682332895231,-0.99776413256339647,-0.99847052807152936,-0.99885670076231592,-0.99811772115445885,-0.99883426675495524]
[-2.3999999999999964,-0.99931148610335274,-0.99931148610335496,-0.99931148605026376,-0.99865618947350043,-0.99898321229052334,-0.99931138211800519,-0.9987874946499723,-0.99929432794245976]
[-2.4999999999999964,-0.99959304798255733,-0.99959304798255499,-0.99959304794795256,-0.99920727255008457,-0.99932419977221065,-0.99959296453660595,-0.99922973350430944,-0.99958045493116376]
[-2.5999999999999965,-0.99976396558346659,-0.99976396558347069,-0.99976396556261726,-0.99954099926273066,-0.99955046974907524,-0.9997639017652199,-0.99951743480642763,-0.99975502703294172]
[-2.6999999999999966,-0.999865667260045,-0.99986566726005943,-0.99986566724831616,-0.99973913858189001,-0.99970046564204951,-0.99986562051470407,-0.99970185425057168,-0.99985951991909716]
[-2.7999999999999967,-0.99992498680535757,-0.99992498680533459,-0.99992498679912856,-0.99985448380892727,-0.99979991230156118,-0.99992495389105485,-0.99981834017465787,-0.99992088429671178]
[-2.8999999999999968,-0.9999589021219295,-0.99995890212190053,-0.99995890211882399,-0.99992032695339839,-0.99986591897277144,-0.99995887978039688,-0.99989084420313157,-0.99995624202275124]
[-2.9999999999999969,-0.99997790950301479,-0.99997790950300136,-0.9999779095015785,-0.99995718457390592,-0.99990981641732479,-0.99997789485110222,-0.99993531667169167,-0.99997623190331297]
[-3.099999999999997,-0.99998835134253361,-0.99998835134263275,-0.99998835134202702,-0.99997741785685312,-0.99993908861095193,-0.9999883420420016,-0.99996219967317834,-0.99998732141260926]
[-3.1999999999999971,-0.99999397423863057,-0.99999397423884828,-0.99999397423861791,-0.99998831062711535,-0.99995867237707714,-0.99999396851601674,-0.99997821505875795,-0.99999335822978597]
[-3.2999999999999972,-0.99999694229054481,-0.99999694229020353,-0.99999694229013136,-0.99999406170258287,-0.9999718239399753,-0.9999969388725739,-0.99998761845407014,-0.99999658310987161]
[-3.3999999999999972,-0.99999847800667296,-0.9999984780066371,-0.999998478006624,-0.99999703953663299,-0.99998069293399916,-0.99999847602371372,-0.99999306013543354,-0.99999827372321792]
[-3.4999999999999973,-0.99999919674143201,-0.99999925690162761,-0.99999925690163238,-0.99999855167507201,-0.9999867009099318,-0.99999925578286397,-0.99999616394558333,-0.99999914351360508]
[-3.5999999999999974,-0.99999961689876227,-0.99999964413700704,-0.99999964413701437,-0.99999930471641119,-0.99999079021730541,-0.99999964352274606,-0.99999790889343565,-0.99999958268905509]
[-3.6999999999999975,-0.99999982073434523,-0.99999983284894212,-0.99999983284894789,-0.99999967248703248,-0.9999935874210143,-0.99999983252051716,-0.99999887584754454,-0.99999980032338054]
[-3.7999999999999976,-0.99999991770370589,-0.99999992299607254,-0.99999992299607621,-0.99999984862767821,-0.99999551057487646,-0.99999992282497729,-0.99999940401970133,-0.99999990617429368]
[-3.8999999999999977,-0.99999996293706639,-0.99999996520775136,-0.99999996520775347,-0.99999993135688536,-0.99999683969271114,-0.99999996512085976,-0.99999968840087061,-0.99999995670448949]
[-3.9999999999999978,-0.99999998362601494,-0.99999998458274209,-0.9999999845827432,-0.99999996946053449,-0.99999776311501254,-0.99999998453970418,-0.99999983933613523,-0.99999998038042381]
[-4.0999999999999979,-0.99999999290414587,-0.99999999329997236,-0.99999999329997291,-0.99999998667026069,-0.99999840808431995,-0.99999999327917399,-0.99999991830455826,-0.99999999126904882]
[-4.1999999999999975,-0.99999999698371134,-0.99999999714450583,-0.99999999714450605,-0.99999999429231512,-0.99999886096378487,-0.99999999713469589,-0.99999995903291305,-0.99999999618444058]
[-4.2999999999999972,-0.99999999874239931,-0.99999999880652823,-0.99999999880652835,-0.99999999760249603,-0.99999918065061244,-0.99999999880201074,-0.99999997974044119,-0.99999999836250786]
[-4.3999999999999968,-0.99999999948572049,-0.99999999951082896,-0.99999999951082907,-0.99999999901212233,-0.99999940750710647,-0.99999999950879737,-0.99999999011941798,-0.99999999930988059]
[-4.4999999999999964,-0.99999999979373355,-0.99999999980338394,-0.99999999980338394,-0.99999999960072172,-0.99999956933055723,-0.99999999980249143,-0.9999999952478219,-0.99999999971437714]
[-4.5999999999999961,-0.99999999991886324,-0.99999999992250399,-0.99999999992250399,-0.99999999984170707,-0.99999968536038386,-0.99999999992212085,-0.9999999977459656,-0.99999999988391253]
[-4.6999999999999957,-0.99999999996869926,-0.9999999999700474,-0.9999999999700474,-0.99999999993844735,-0.99999976897953002,-0.99999999996988664,-0.99999999894564706,-0.99999999995366584]
[-4.7999999999999954,-0.99999999998815792,-0.99999999998864786,-0.99999999998864786,-0.99999999997652445,-0.99999982954377609,-0.99999999998858191,-0.99999999951362739,-0.99999999998183897]
[-4.899999999999995,-0.99999999999560629,-0.99999999999578104,-0.99999999999578104,-0.99999999999121869,-0.99999987362619103,-0.99999999999575462,-0.99999999977873644,-0.99999999999300959]
[-4.9999999999999947,-0.99999999999840139,-0.99999999999846256,-0.99999999999846256,-0.99999999999677847,-0.99999990586766485,-0.99999999999845224,-0.99999999990073218,-0.99999999999735767]
[-5.0999999999999943,-0.99999999999942957,-0.99999999999945066,-0.99999999999945066,-0.99999999999884093,-0.99999992956095218,-0.99999999999944666,-0.9999999999560798,-0.99999999999901912]
[-5.199999999999994,-0.99999999999980038,-0.99999999999980749,-0.99999999999980749,-0.99999999999959099,{"$f":"abra4(A114)","v":-0.99999994705362294},-0.99999999999980604,-0.99999999998083633,-0.99999999999964251]
[-5.2999999999999936,-0.9999999999999315,-0.99999999999993383,-0.99999999999993383,-0.99999999999985845,-0.99999996002738833,-0.99999999999993328,-0.99999999999175393,-0.99999999999987199]
[-5.3999999999999932,-0.99999999999997691,-0.99999999999997768,-0.99999999999997768,-0.99999999999995193,-0.99999996969264671,-0.99999999999997757,-0.99999999999650069,-0.99999999999995504]
[-5.4999999999999929,-0.99999999999999245,-0.99999999999999267,-0.99999999999999267,-0.99999999999998401,-0.99999997692461784,-0.99999999999999256,-0.99999999999853562,-0.99999999999998446]
[-5.5999999999999925,-0.99999999999999756,-0.99999999999999767,-0.99999999999999767,-0.99999999999999478,-0.9999999823590483,-0.99999999999999756,-0.99999999999939559,-0.99999999999999478]
[-5.6999999999999922,-0.99999999999999922,-0.99999999999999922,-0.99999999999999922,-0.99999999999999833,-0.9999999864598067,-0.99999999999999922,-0.99999999999975397,-0.99999999999999822]
[-5.7999999999999918,-0.99999999999999978,-0.99999999999999978,-0.99999999999999978,-0.99999999999999944,-0.99999998956684188,-0.99999999999999978,-0.9999999999999013,-0.99999999999999944]
[-5.8999999999999915,-0.99999999999999989,-0.99999999999999989,-0.99999999999999989,-0.99999999999999989,-0.9999999919303636,-0.99999999999999989,-0.99999999999996092,-0.99999999999999978]
[-5.9999999999999911,-1,-1,-1,-1,-0.99999999373531145,-1,-0.99999999999998479,-0.99999999999999989]
[-6.0999999999999908,-1,-1,-1,-1,-0.99999999511894877,-1,-0.99999999999999412,-1]

{"sheet":"Differences","index":2,"n_rows":123,"n_cols":8,"rows_kept":123,"cut":false,"hidden":false,"merged":[]}
["Argument","XL 2010 - Series","Press - Series","Winitzki - Series","Abra4 - Series","Abra6 - Series","Lether1 - Series","Lether2 - Series"]
[{"$f":"'erf Compare'!A2","v":6},{"$f":"'erf Compare'!C2-'erf Compare'!B2","v":0},{"$f":"'erf Compare'!D2-'erf Compare'!B2","v":0},{"$f":"'erf Compare'!E2-'erf Compare'!B2","v":0},{"$f":"'erf Compare'!F2-'erf Compare'!B2","v":-6.2646885456985046E-9},{"$f":"'erf Compare'!G2-'erf Compare'!B2","v":0},{"$f":"'erf Compare'!H2-'erf Compare'!B2","v":-1.5210055437364645E-14},{"$f":"'erf Compare'!I2-'erf Compare'!B2","v":0}]
[{"$f":"'erf Compare'!A3","v":5.9},{"$f":"'erf Compare'!C3-'erf Compare'!B3","v":0},{"$f":"'erf Compare'!D3-'erf Compare'!B3","v":0},{"$f":"'erf Compare'!E3-'erf Compare'!B3","v":0},{"$f":"'erf Compare'!F3-'erf Compare'!B3","v":-8.069636292518112E-9},{"$f":"'erf Compare'!G3-'erf Compare'!B3","v":0},{"$f":"'erf Compare'!H3-'erf Compare'!B3","v":-3.8968828164342995E-14},{"$f":"'erf Compare'!I3-'erf Compare'!B3","v":0}]
[{"$f":"'erf Compare'!A4","v":5.8000000000000007},{"$f":"'erf Compare'!C4-'erf Compare'!B4","v":0},{"$f":"'erf Compare'!D4-'erf Compare'!B4","v":0},{"$f":"'erf Compare'!E4-'erf Compare'!B4","v":0},{"$f":"'erf Compare'!F4-'erf Compare'!B4","v":-1.0433157893174894E-8},{"$f":"'erf Compare'!G4-'erf Compare'!B4","v":0},{"$f":"'erf Compare'!H4-'erf Compare'!B4","v":-9.8476782284251385E-14},{"$f":"'erf Compare'!I4-'erf Compare'!B4","v":0}]
[{"$f":"'erf Compare'!A5","v":5.7000000000000011},{"$f":"'erf Compare'!C5-'erf Compare'!B5","v":0},{"$f":"'erf Compare'!D5-'erf Compare'!B5","v":0},{"$f":"'erf Compare'!E5-'erf Compare'!B5","v":-8.8817841970012523E-16},{"$f":"'erf Compare'!F5-'erf Compare'!B5","v":-1.3540192522754069E-8},{"$f":"'erf Compare'!G5-'erf Compare'!B5","v":0},{"$f":"'erf Compare'!H5-'erf Compare'!B5","v":-2.4524826613969708E-13},{"$f":"'erf Compare'!I5-'erf Compare'!B5","v":-9.9920072216264089E-16}]
[{"$f":"'erf Compare'!A6","v":5.6000000000000014},{"$f":"'erf Compare'!C6-'erf Compare'!B6","v":0},{"$f":"'erf Compare'!D6-'erf Compare'!B6","v":0},{"$f":"'erf Compare'!E6-'erf Compare'!B6","v":-2.7755575615628914E-15},{"$f":"'erf Compare'!F6-'erf Compare'!B6","v":-1.7640949256936267E-8},{"$f":"'erf Compare'!G6-'erf Compare'!B6","v":0},{"$f":"'erf Compare'!H6-'erf Compare'!B6","v":-6.0196292395175988E-13},{"$f":"'erf Compare'!I6-'erf Compare'!B6","v":-2.7755575615628914E-15}]
[{"$f":"'erf Compare'!A7","v":5.5000000000000018},{"$f":"'erf Compare'!C7-'erf Compare'!B7","v":0},{"$f":"'erf Compare'!D7-'erf Compare'!B7","v":0},{"$f":"'erf Compare'!E7-'erf Compare'!B7","v":-8.4376949871511897E-15},{"$f":"'erf Compare'!F7-'erf Compare'!B7","v":-2.3075374611103427E-8},{"$f":"'erf Compare'!G7-'erf Compare'!B7","v":0},{"$f":"'erf Compare'!H7-'erf Compare'!B7","v":-1.4568346529131304E-12},{"$f":"'erf Compare'!I7-'erf Compare'!B7","v":-7.9936057773011271E-15}]
[{"$f":"'erf Compare'!A8","v":5.4000000000000021},{"$f":"'erf Compare'!C8-'erf Compare'!B8","v":0},{"$f":"'erf Compare'!D8-'erf Compare'!B8","v":0},{"$f":"'erf Compare'!E8-'erf Compare'!B8","v":-2.4980018054066022E-14},{"$f":"'erf Compare'!F8-'erf Compare'!B8","v":-3.0307330201040372E-8},{"$f":"'erf Compare'!G8-'erf Compare'!B8","v":0},{"$f":"'erf Compare'!H8-'erf Compare'!B8","v":-3.4762193124038276E-12},{"$f":"'erf Compare'!I8-'erf Compare'!B8","v":-2.1871393585115584E-14}]
[{"$f":"'erf Compare'!A9","v":5.3000000000000025},{"$f":"'erf Compare'!C9-'erf Compare'!B9","v":2.3314683517128287E-15},{"$f":"'erf Compare'!D9-'erf Compare'!B9","v":2.3314683517128287E-15},{"$f":"'erf Compare'!E9-'erf Compare'!B9","v":-7.30526750203353E-14},{"$f":"'erf Compare'!F9-'erf Compare'!B9","v":-3.9972543164346064E-8},{"$f":"'erf Compare'!G9-'erf Compare'!B9","v":1.7763568394002505E-15},{"$f":"'erf Compare'!H9-'erf Compare'!B9","v":-8.1775697324815155E-12},{"$f":"'erf Compare'!I9-'erf Compare'!B9","v":-5.9507954119908391E-14}]
[{"$f":"'erf Compare'!A10","v":5.2000000000000028},{"$f":"'erf Compare'!C10-'erf Compare'!B10","v":7.1054273576010019E-15},{"$f":"'erf Compare'!D10-'erf Compare'!B10","v":7.1054273576010019E-15},{"$f":"'erf Compare'!E10-'erf Compare'!B10","v":-2.0938806244430452E-13},{"$f":"'erf Compare'!F10-'erf Compare'!B10","v":-5.2946177442336761E-8},{"$f":"'erf Compare'!G10-'erf Compare'!B10","v":5.6621374255882984E-15},{"$f":"'erf Compare'!H10-'erf Compare'!B10","v":-1.8964052550529686E-11},{"$f":"'erf Compare'!I10-'erf Compare'!B10","v":-1.5787371410169726E-13}]
[{"$f":"'erf Compare'!A11","v":5.1000000000000032},{"$f":"'erf Compare'!C11-'erf Compare'!B11","v":2.1094237467877974E-14},{"$f":"'erf Compare'!D11-'erf Compare'!B11","v":2.1094237467877974E-14},{"$f":"'erf Compare'!E11-'erf Compare'!B11","v":-5.88640247656258E-13},{"$f":"'erf Compare'!F11-'erf Compare'!B11","v":-7.0438477384193732E-8},{"$f":"'erf Compare'!G11-'erf Compare'!B11","v":1.7097434579227411E-14},{"$f":"'erf Compare'!H11-'erf Compare'!B11","v":-4.3349768219513862E-11},{"$f":"'erf Compare'!I11-'erf Compare'!B11","v":-4.1044945220392037E-13}]
[{"$f":"'erf Compare'!A12","v":5.0000000000000036},{"$f":"'erf Compare'!C12-'erf Compare'!B12","v":6.1173288656846125E-14},{"$f":"'erf Compare'!D12-'erf Compare'!B12","v":6.1173288656846125E-14},{"$f":"'erf Compare'!E12-'erf Compare'!B12","v":-1.6229240173970538E-12},{"$f":"'erf Compare'!F12-'erf Compare'!B12","v":-9.4130736538744486E-8},{"$f":"'erf Compare'!G12-'erf Compare'!B12","v":5.084821452783217E-14},{"$f":"'erf Compare'!H12-'erf Compare'!B12","v":-9.7669206056139046E-11},{"$f":"'erf Compare'!I12-'erf Compare'!B12","v":-1.0437206654501097E-12}]
[{"$f":"'erf Compare'!A13","v":4.9000000000000039},{"$f":"'erf Compare'!C13-'erf Compare'!B13","v":1.7474910407599964E-13},{"$f":"'erf Compare'!D13-'erf Compare'!B13","v":1.7474910407599964E-13},{"$f":"'erf Compare'!E13-'erf Compare'!B13","v":-4.3876013933186186E-12},{"$f":"'erf Compare'!F13-'erf Compare'!B13","v":-1.2636941526533718E-7},{"$f":"'erf Compare'!G13-'erf Compare'!B13","v":1.4832579608992091E-13},{"$f":"'erf Compare'!H13-'erf Compare'!B13","v":-2.1686985540725345E-10},{"$f":"'erf Compare'!I13-'erf Compare'!B13","v":-2.5967006322957786E-12}]
[{"$f":"'erf Compare'!A14","v":4.8000000000000043},{"$f":"'erf Compare'!C14-'erf Compare'!B14","v":4.8994142076708158E-13},{"$f":"'erf Compare'!D14-'erf Compare'!B14","v":4.8994142076708158E-13},{"$f":"'erf Compare'!E14-'erf Compare'!B14","v":-1.1633471963534703E-11},{"$f":"'erf Compare'!F14-'erf Compare'!B14","v":-1.7044438183067001E-7},{"$f":"'erf Compare'!G14-'erf Compare'!B14","v":4.2399417310434728E-13},{"$f":"'erf Compare'!H14-'erf Compare'!B14","v":-4.7453052598456225E-10},{"$f":"'erf Compare'!I14-'erf Compare'!B14","v":-6.318945366956541E-12}]
[{"$f":"'erf Compare'!A15","v":4.7000000000000046},{"$f":"'erf Compare'!C15-'erf Compare'!B15","v":1.3481438188023276E-12},{"$f":"'erf Compare'!D15-'erf Compare'!B15","v":1.3481438188023276E-12},{"$f":"'erf Compare'!E15-'erf Compare'!B15","v":-3.0251912086498578E-11},{"$f":"'erf Compare'!F15-'erf Compare'!B15","v":-2.3098916923647295E-7},{"$f":"'erf Compare'!G15-'erf Compare'!B15","v":1.1873835248366049E-12},{"$f":"'erf Compare'!H15-'erf Compare'!B15","v":-1.0230521985121754E-9},{"$f":"'erf Compare'!I15-'erf Compare'!B15","v":-1.5033418954146782E-11}]
[{"$f":"'erf Compare'!A16","v":4.600000000000005},{"$f":"'erf Compare'!C16-'erf Compare'!B16","v":3.6407543646532758E-12},{"$f":"'erf Compare'!D16-'erf Compare'!B16","v":3.6407543646532758E-12},{"$f":"'erf Compare'!E16-'erf Compare'!B16","v":-7.7156170341652341E-11},{"$f":"'erf Compare'!F16-'erf Compare'!B16","v":-3.145584793751155E-7},{"$f":"'erf Compare'!G16-'erf Compare'!B16","v":3.2576163988551343E-12},{"$f":"'erf Compare'!H16-'erf Compare'!B16","v":-2.1728976395962718E-9},{"$f":"'erf Compare'!I16-'erf Compare'!B16","v":-3.4950708993619628E-11}]
[{"$f":"'erf Compare'!A17","v":4.5000000000000053},{"$f":"'erf Compare'!C17-'erf Compare'!B17","v":9.6503915969492482E-12},{"$f":"'erf Compare'!D17-'erf Compare'!B17","v":9.6503915969492482E-12},{"$f":"'erf Compare'!E17-'erf Compare'!B17","v":-1.9301182874187361E-10},{"$f":"'erf Compare'!F17-'erf Compare'!B17","v":-4.3046317632633446E-7},{"$f":"'erf Compare'!G17-'erf Compare'!B17","v":8.7578833074530849E-12},{"$f":"'erf Compare'!H17-'erf Compare'!B17","v":-4.5459116471135985E-9},{"$f":"'erf Compare'!I17-'erf Compare'!B17","v":-7.9356410331854477E-11}]
[{"$f":"'erf Compare'!A18","v":4.4000000000000057},{"$f":"'erf Compare'!C18-'erf Compare'!B18","v":2.5108470858015153E-11},{"$f":"'erf Compare'!D18-'erf Compare'!B18","v":2.5108581880317615E-11},{"$f":"'erf Compare'!E18-'erf Compare'!B18","v":-4.7359816068848204E-10},{"$f":"'erf Compare'!F18-'erf Compare'!B18","v":-5.919786140173855E-7},{"$f":"'erf Compare'!G18-'erf Compare'!B18","v":2.3076873745253579E-11},{"$f":"'erf Compare'!H18-'erf Compare'!B18","v":-9.3663025113599474E-9},{"$f":"'erf Compare'!I18-'erf Compare'!B18","v":-1.7583989819769386E-10}]
[{"$f":"'erf Compare'!A19","v":4.300000000000006},{"$f":"'erf Compare'!C19-'erf Compare'!B19","v":6.4128924393003217E-11},{"$f":"'erf Compare'!D19-'erf Compare'!B19","v":6.412903541530568E-11},{"$f":"'erf Compare'!E19-'erf Compare'!B19","v":-1.1399032828762756E-9},{"$f":"'erf Compare'!F19-'erf Compare'!B19","v":-8.1809178686942374E-7},{"$f":"'erf Compare'!G19-'erf Compare'!B19","v":5.9611426905803455E-11},{"$f":"'erf Compare'!H19-'erf Compare'!B19","v":-1.9001958118103346E-8},{"$f":"'erf Compare'!I19-'erf Compare'!B19","v":-3.7989145162953264E-10}]
[{"$f":"'erf Compare'!A20","v":4.2000000000000064},{"$f":"'erf Compare'!C20-'erf Compare'!B20","v":1.6079448883488112E-10},{"$f":"'erf Compare'!D20-'erf Compare'!B20","v":1.6079471087948605E-10},{"$f":"'erf Compare'!E20-'erf Compare'!B20","v":-2.6913962170027617E-9},{"$f":"'erf Compare'!F20-'erf Compare'!B20","v":-1.1360199264620618E-6},{"$f":"'erf Compare'!G20-'erf Compare'!B20","v":1.5098455818929324E-10},{"$f":"'erf Compare'!H20-'erf Compare'!B20","v":-3.7950798281727316E-8},{"$f":"'erf Compare'!I20-'erf Compare'!B20","v":-7.9927076068742053E-10}]
[{"$f":"'erf Compare'!A21","v":4.1000000000000068},{"$f":"'erf Compare'!C21-'erf Compare'!B21","v":3.9582648270197751E-10},{"$f":"'erf Compare'!D21-'erf Compare'!B21","v":3.9582703781348982E-10},{"$f":"'erf Compare'!E21-'erf Compare'!B21","v":-6.2338851858356747E-9},{"$f":"'erf Compare'!F21-'erf Compare'!B21","v":-1.5848198259282853E-6},{"$f":"'erf Compare'!G21-'erf Compare'!B21","v":3.7502811967016214E-10},{"$f":"'erf Compare'!H21-'erf Compare'!B21","v":-7.4599587618351393E-8},{"$f":"'erf Compare'!I21-'erf Compare'!B21","v":-1.6350970577505564E-9}]
[{"$f":"'erf Compare'!A22","v":4.0000000000000071},{"$f":"'erf Compare'!C22-'erf Compare'!B22","v":9.567271419541612E-10},{"$f":"'erf Compare'!D22-'erf Compare'!B22","v":9.5672825217718582E-10},{"$f":"'erf Compare'!E22-'erf Compare'!B22","v":-1.4165480455297086E-8},{"$f":"'erf Compare'!F22-'erf Compare'!B22","v":-2.2205110024042796E-6},{"$f":"'erf Compare'!G22-'erf Compare'!B22","v":9.1368923538226454E-10},{"$f":"'erf Compare'!H22-'erf Compare'!B22","v":-1.442898797110459E-7},{"$f":"'erf Compare'!I22-'erf Compare'!B22","v":-3.2455911291862094E-9}]
[{"$f":"'erf Compare'!A23","v":3.900000000000007},{"$f":"'erf Compare'!C23-'erf Compare'!B23","v":2.270684973382231E-9},{"$f":"'erf Compare'!D23-'erf Compare'!B23","v":2.2706870828059778E-9},{"$f":"'erf Compare'!E23-'erf Compare'!B23","v":-3.1580181025780973E-8},{"$f":"'erf Compare'!F23-'erf Compare'!B23","v":-3.1232443552520195E-6},{"$f":"'erf Compare'!G23-'erf Compare'!B23","v":2.1837933683599431E-9},{"$f":"'erf Compare'!H23-'erf Compare'!B23","v":-2.7453619577677557E-7},{"$f":"'erf Compare'!I23-'erf Compare'!B23","v":-6.2325768990234565E-9}]
[{"$f":"'erf Compare'!A24","v":3.8000000000000069},{"$f":"'erf Compare'!C24-'erf Compare'!B24","v":5.2923666560289462E-9},{"$f":"'erf Compare'!D24-'erf Compare'!B24","v":5.2923703197649274E-9},{"$f":"'erf Compare'!E24-'erf Compare'!B24","v":-6.9076027675585294E-8},{"$f":"'erf Compare'!F24-'erf Compare'!B24","v":-4.4071288294311728E-6},{"$f":"'erf Compare'!G24-'erf Compare'!B24","v":5.1212714069492904E-9},{"$f":"'erf Compare'!H24-'erf Compare'!B24","v":-5.1368400455498175E-7},{"$f":"'erf Compare'!I24-'erf Compare'!B24","v":-1.1529412202726519E-8}]
[{"$f":"'erf Compare'!A25","v":3.7000000000000068},{"$f":"'erf Compare'!C25-'erf Compare'!B25","v":1.2114596881218631E-8},{"$f":"'erf Compare'!D25-'erf Compare'!B25","v":1.2114602654378359E-8},{"$f":"'erf Compare'!E25-'erf Compare'!B25","v":-1.4824731275897562E-7},{"$f":"'erf Compare'!F25-'erf Compare'!B25","v":-6.2333133309389055E-6},{"$f":"'erf Compare'!G25-'erf Compare'!B25","v":1.1786171927319344E-8},{"$f":"'erf Compare'!H25-'erf Compare'!B25","v":-9.4488680069115816E-7},{"$f":"'erf Compare'!I25-'erf Compare'!B25","v":-2.0410964696182532E-8}]
[{"$f":"'erf Compare'!A26","v":3.6000000000000068},{"$f":"'erf Compare'!C26-'erf Compare'!B26","v":2.7238244770799724E-8},{"$f":"'erf Compare'!D26-'erf Compare'!B26","v":2.7238252098271687E-8},{"$f":"'erf Compare'!E26-'erf Compare'!B26","v":-3.1218235108099179E-7},{"$f":"'erf Compare'!F26-'erf Compare'!B26","v":-8.8266814568527252E-6},{"$f":"'erf Compare'!G26-'erf Compare'!B26","v":2.6623983795381889E-8},{"$f":"'erf Compare'!H26-'erf Compare'!B26","v":-1.7080053266171902E-6},{"$f":"'erf Compare'!I26-'erf Compare'!B26","v":-3.4209707178156634E-8}]
[{"$f":"'erf Compare'!A27","v":3.5000000000000067},{"$f":"'erf Compare'!C27-'erf Compare'!B27","v":6.0160195602954047E-8},{"$f":"'erf Compare'!D27-'erf Compare'!B27","v":6.0160200376913053E-8},{"$f":"'erf Compare'!E27-'erf Compare'!B27","v":-6.450663599943951E-7},{"$f":"'erf Compare'!F27-'erf Compare'!B27","v":-1.249583150020328E-5},{"$f":"'erf Compare'!G27-'erf Compare'!B27","v":5.9041431965667357E-8},{"$f":"'erf Compare'!H27-'erf Compare'!B27","v":-3.0327958486786599E-6},{"$f":"'erf Compare'!I27-'erf Compare'!B27","v":-5.3227826923851751E-8}]
[{"$f":"'erf Compare'!A28","v":3.4000000000000066},{"$f":"'erf Compare'!C28-'erf Compare'!B28","v":1.3054263214851147E-7},{"$f":"'erf Compare'!D28-'erf Compare'!B28","v":1.3054261904787978E-7},{"$f":"'erf Compare'!E28-'erf Compare'!B28","v":-1.3079273719629469E-6},{"$f":"'erf Compare'!F28-'erf Compare'!B28","v":-1.7654530005795088E-5},{"$f":"'erf Compare'!G28-'erf Compare'!B28","v":1.285597087674617E-7},{"$f":"'erf Compare'!H28-'erf Compare'!B28","v":-5.287328571412786E-6},{"$f":"'erf Compare'!I28-'erf Compare'!B28","v":-7.3740787032150479E-8}]
[{"$f":"'erf Compare'!A29","v":3.3000000000000065},{"$f":"'erf Compare'!C29-'erf Compare'!B29","v":-2.0872192862952943E-13},{"$f":"'erf Compare'!D29-'erf Compare'!B29","v":-2.808864252301646E-13},{"$f":"'erf Compare'!E29-'erf Compare'!B29","v":-2.8805878293791665E-6},{"$f":"'erf Compare'!F29-'erf Compare'!B29","v":-2.5118350436947878E-5},{"$f":"'erf Compare'!G29-'erf Compare'!B29","v":-3.4178383456762162E-9},{"$f":"'erf Compare'!H29-'erf Compare'!B29","v":-9.3238363421122017E-6},{"$f":"'erf Compare'!I29-'erf Compare'!B29","v":-3.5918054064332239E-7}]
[{"$f":"'erf Compare'!A30","v":3.2000000000000064},{"$f":"'erf Compare'!C30-'erf Compare'!B30","v":8.0935258495173912E-14},{"$f":"'erf Compare'!D30-'erf Compare'!B30","v":-1.4943601911454607E-13},{"$f":"'erf Compare'!E30-'erf Compare'!B30","v":-5.6636116519959145E-6},{"$f":"'erf Compare'!F30-'erf Compare'!B30","v":-3.5301861690206771E-5},{"$f":"'erf Compare'!G30-'erf Compare'!B30","v":-5.7227506067292211E-9},{"$f":"'erf Compare'!H30-'erf Compare'!B30","v":-1.5759180009400353E-5},{"$f":"'erf Compare'!I30-'erf Compare'!B30","v":-6.1600898138003402E-7}]
[{"$f":"'erf Compare'!A31","v":3.1000000000000063},{"$f":"'erf Compare'!C31-'erf Compare'!B31","v":-2.1538326677728037E-14},{"$f":"'erf Compare'!D31-'erf Compare'!B31","v":-6.2727600891321345E-13},{"$f":"'erf Compare'!E31-'erf Compare'!B31","v":-1.0933485801167819E-5},{"$f":"'erf Compare'!F31-'erf Compare'!B31","v":-4.926273170235973E-5},{"$f":"'erf Compare'!G31-'erf Compare'!B31","v":-9.3006526924455102E-9},{"$f":"'erf Compare'!H31-'erf Compare'!B31","v":-2.6151669475948935E-5},{"$f":"'erf Compare'!I31-'erf Compare'!B31","v":-1.0299300450267168E-6}]
[{"$f":"'erf Compare'!A32","v":3.0000000000000062},{"$f":"'erf Compare'!C32-'erf Compare'!B32","v":-1.7763568394002505E-14},{"$f":"'erf Compare'!D32-'erf Compare'!B32","v":-1.4406253967536031E-12},{"$f":"'erf Compare'!E32-'erf Compare'!B32","v":-2.0724929113202784E-5},{"$f":"'erf Compare'!F32-'erf Compare'!B32","v":-6.8093085694331812E-5},{"$f":"'erf Compare'!G32-'erf Compare'!B32","v":-1.4651916901975426E-8},{"$f":"'erf Compare'!H32-'erf Compare'!B32","v":-4.259283132745928E-5},{"$f":"'erf Compare'!I32-'erf Compare'!B32","v":-1.6775997061513337E-6}]
[{"$f":"'erf Compare'!A33","v":2.9000000000000061},{"$f":"'erf Compare'!C33-'erf Compare'!B33","v":-9.4368957093138306E-15},{"$f":"'erf Compare'!D33-'erf Compare'!B33","v":-3.0859759192480851E-12},{"$f":"'erf Compare'!E33-'erf Compare'!B33","v":-3.8575168511578717E-5},{"$f":"'erf Compare'!F33-'erf Compare'!B33","v":-9.2983149138525789E-5},{"$f":"'erf Compare'!G33-'erf Compare'!B33","v":-2.2341513084001008E-8},{"$f":"'erf Compare'!H33-'erf Compare'!B33","v":-6.8057918778396953E-5},{"$f":"'erf Compare'!I33-'erf Compare'!B33","v":-2.6600991587244494E-6}]
[{"$f":"'erf Compare'!A34","v":2.800000000000006},{"$f":"'erf Compare'!C34-'erf Compare'!B34","v":4.3298697960381105E-15},{"$f":"'erf Compare'!D34-'erf Compare'!B34","v":-6.2015947932536619E-12},{"$f":"'erf Compare'!E34-'erf Compare'!B34","v":-7.0502996402987961E-5},{"$f":"'erf Compare'!F34-'erf Compare'!B34","v":-1.250745037690848E-4},{"$f":"'erf Compare'!G34-'erf Compare'!B34","v":-3.2914275416295879E-8},{"$f":"'erf Compare'!H34-'erf Compare'!B34","v":-1.0664663067239122E-4},{"$f":"'erf Compare'!I34-'erf Compare'!B34","v":-4.102508618486489E-6}]
[{"$f":"'erf Compare'!A35","v":2.700000000000006},{"$f":"'erf Compare'!C35-'erf Compare'!B35","v":1.0325074129013956E-14},{"$f":"'erf Compare'!D35-'erf Compare'!B35","v":-1.1732947946541117E-11},{"$f":"'erf Compare'!E35-'erf Compare'!B35","v":-1.2652867815909907E-4},{"$f":"'erf Compare'!F35-'erf Compare'!B35","v":-1.6520161799959965E-4},{"$f":"'erf Compare'!G35-'erf Compare'!B35","v":-4.674534503923411E-8},{"$f":"'erf Compare'!H35-'erf Compare'!B35","v":-1.6381300947743149E-4},{"$f":"'erf Compare'!I35-'erf Compare'!B35","v":-6.147340951945246E-6}]
[{"$f":"'erf Compare'!A36","v":2.6000000000000059},{"$f":"'erf Compare'!C36-'erf Compare'!B36","v":0},{"$f":"'erf Compare'!D36-'erf Compare'!B36","v":-2.0853874183046628E-11},{"$f":"'erf Compare'!E36-'erf Compare'!B36","v":-2.2296632074048084E-4},{"$f":"'erf Compare'!F36-'erf Compare'!B36","v":-2.134958343958937E-4},{"$f":"'erf Compare'!G36-'erf Compare'!B36","v":-6.3818251239133872E-8},{"$f":"'erf Compare'!H36-'erf Compare'!B36","v":-2.4653077704350768E-4},{"$f":"'erf Compare'!I36-'erf Compare'!B36","v":-8.9385505294137246E-6}]
[{"$f":"'erf Compare'!A37","v":2.5000000000000058},{"$f":"'erf Compare'!C37-'erf Compare'!B37","v":-1.5543122344752192E-15},{"$f":"'erf Compare'!D37-'erf Compare'!B37","v":-3.4603986343029192E-11},{"$f":"'erf Compare'!E37-'erf Compare'!B37","v":-3.8577543247197976E-4},{"$f":"'erf Compare'!F37-'erf Compare'!B37","v":-2.6884821034600659E-4},{"$f":"'erf Compare'!G37-'erf Compare'!B37","v":-8.3445950704863492E-8},{"$f":"'erf Compare'!H37-'erf Compare'!B37","v":-3.6331447824722307E-4},{"$f":"'erf Compare'!I37-'erf Compare'!B37","v":-1.2593051392895127E-5}]
[{"$f":"'erf Compare'!A38","v":2.4000000000000057},{"$f":"'erf Compare'!C38-'erf Compare'!B38","v":-2.55351295663786E-15},{"$f":"'erf Compare'!D38-'erf Compare'!B38","v":-5.3093751617439011E-11},{"$f":"'erf Compare'!E38-'erf Compare'!B38","v":-6.5529662985697179E-4},{"$f":"'erf Compare'!F38-'erf Compare'!B38","v":-3.2827381283417889E-4},{"$f":"'erf Compare'!G38-'erf Compare'!B38","v":-1.039853523288059E-7},{"$f":"'erf Compare'!H38-'erf Compare'!B38","v":-5.2399145338521969E-4},{"$f":"'erf Compare'!I38-'erf Compare'!B38","v":-1.715816089775668E-5}]
[{"$f":"'erf Compare'!A39","v":2.3000000000000056},{"$f":"'erf Compare'!C39-'erf Compare'!B39","v":0},{"$f":"'erf Compare'!D39-'erf Compare'!B39","v":-7.3690720192587378E-11},{"$f":"'erf Compare'!E39-'erf Compare'!B39","v":-1.0926908392464574E-3},{"$f":"'erf Compare'!F39-'erf Compare'!B39","v":-3.8629533111367298E-4},{"$f":"'erf Compare'!G39-'erf Compare'!B39","v":-1.2264032700493033E-7},{"$f":"'erf Compare'!H39-'erf Compare'!B39","v":-7.3910224818407588E-4},{"$f":"'erf Compare'!I39-'erf Compare'!B39","v":-2.2556647687688169E-5}]
[{"$f":"'erf Compare'!A40","v":2.2000000000000055},{"$f":"'erf Compare'!C40-'erf Compare'!B40","v":0},{"$f":"'erf Compare'!D40-'erf Compare'!B40","v":-8.8015039700906073E-11},{"$f":"'erf Compare'!E40-'erf Compare'!B40","v":-1.7883113970821318E-3},{"$f":"'erf Compare'!F40-'erf Compare'!B40","v":-4.3456431175359356E-4},{"$f":"'erf Compare'!G40-'erf Compare'!B40","v":-1.3549082955588432E-7},{"$f":"'erf Compare'!H40-'erf Compare'!B40","v":-1.0188081480394517E-3},{"$f":"'erf Compare'!I40-'erf Compare'!B40","v":-2.8526331998346421E-5}]
[{"$f":"'erf Compare'!A41","v":2.1000000000000054},{"$f":"'erf Compare'!C41-'erf Compare'!B41","v":0},{"$f":"'erf Compare'!D41-'erf Compare'!B41","v":-7.7510775575717616E-11},{"$f":"'erf Compare'!E41-'erf Compare'!B41","v":-2.8720096478466184E-3},{"$f":"'erf Compare'!F41-'erf Compare'!B41","v":-4.6204251048487244E-4},{"$f":"'erf Compare'!G41-'erf Compare'!B41","v":-1.3790290964710294E-7},{"$f":"'erf Compare'!H41-'erf Compare'!B41","v":-1.3712167650540286E-3},{"$f":"'erf Compare'!I41-'erf Compare'!B41","v":-3.4568040955917922E-5}]
[{"$f":"'erf Compare'!A42","v":2.0000000000000053},{"$f":"'erf Compare'!C42-'erf Compare'!B42","v":-9.9920072216264089E-16},{"$f":"'erf Compare'!D42-'erf Compare'!B42","v":-8.2877038565243311E-12},{"$f":"'erf Compare'!E42-'erf Compare'!B42","v":-4.5249423964430768E-3},{"$f":"'erf Compare'!F42-'erf Compare'!B42","v":-4.5612640637837654E-4},{"$f":"'erf Compare'!G42-'erf Compare'!B42","v":-1.2543773486584087E-7},{"$f":"'erf Compare'!H42-'erf Compare'!B42","v":-1.8001123238624572E-3},{"$f":"'erf Compare'!I42-'erf Compare'!B42","v":-3.9922742651743448E-5}]
[{"$f":"'erf Compare'!A43","v":1.9000000000000052},{"$f":"'erf Compare'!C43-'erf Compare'!B43","v":0},{"$f":"'erf Compare'!D43-'erf Compare'!B43","v":1.7265067153715563E-10},{"$f":"'erf Compare'!E43-'erf Compare'!B43","v":-6.9917506955859965E-3},{"$f":"'erf Compare'!F43-'erf Compare'!B43","v":-4.0503957597315399E-4},{"$f":"'erf Compare'!G43-'erf Compare'!B43","v":-9.5258617216487096E-8},{"$f":"'erf Compare'!H43-'erf Compare'!B43","v":-2.3022043198864806E-3},{"$f":"'erf Compare'!I43-'erf Compare'!B43","v":-4.3603257462665468E-5}]
[{"$f":"'erf Compare'!A44","v":1.8000000000000052},{"$f":"'erf Compare'!C44-'erf Compare'!B44","v":0},{"$f":"'erf Compare'!D44-'erf Compare'!B44","v":5.3524840115670713E-10},{"$f":"'erf Compare'!E44-'erf Compare'!B44","v":-1.0590974248795293E-2},{"$f":"'erf Compare'!F44-'erf Compare'!B44","v":-3.0155213413796123E-4},{"$f":"'erf Compare'!G44-'erf Compare'!B44","v":-4.7824204041369001E-8},{"$f":"'erf Compare'!H44-'erf Compare'!B44","v":-2.8641845289731904E-3},{"$f":"'erf Compare'!I44-'erf Compare'!B44","v":-4.4504477996309966E-5}]
[{"$f":"'erf Compare'!A45","v":1.7000000000000051},{"$f":"'erf Compare'!C45-'erf Compare'!B45","v":0},{"$f":"'erf Compare'!D45-'erf Compare'!B45","v":1.1508597408393939E-9},{"$f":"'erf Compare'!E45-'erf Compare'!B45","v":-1.5720272884516273E-2},{"$f":"'erf Compare'!F45-'erf Compare'!B45","v":-1.475551363924188E-4},{"$f":"'erf Compare'!G45-'erf Compare'!B45","v":1.1616831163685504E-8},{"$f":"'erf Compare'!H45-'erf Compare'!B45","v":-3.4600903700534591E-3},{"$f":"'erf Compare'!I45-'erf Compare'!B45","v":-4.1604772904157983E-5}]
[{"$f":"'erf Compare'!A46","v":1.600000000000005},{"$f":"'erf Compare'!C46-'erf Compare'!B46","v":0},{"$f":"'erf Compare'!D46-'erf Compare'!B46","v":2.0540793510548383E-9},{"$f":"'erf Compare'!E46-'erf Compare'!B46","v":-2.2851569590956577E-2},{"$f":"'erf Compare'!F46-'erf Compare'!B46","v":4.1736290876004389E-5},{"$f":"'erf Compare'!G46-'erf Compare'!B46","v":7.2461645572730049E-8},{"$f":"'erf Compare'!H46-'erf Compare'!B46","v":-4.0496751149199373E-3},{"$f":"'erf Compare'!I46-'erf Compare'!B46","v":-3.4247857790381531E-5}]
[{"$f":"'erf Compare'!A47","v":1.5000000000000049},{"$f":"'erf Compare'!C47-'erf Compare'!B47","v":0},{"$f":"'erf Compare'!D47-'erf Compare'!B47","v":3.1751640205968101E-9},{"$f":"'erf Compare'!E47-'erf Compare'!B47","v":-3.2509887025096496E-2},{"$f":"'erf Compare'!F47-'erf Compare'!B47","v":2.3593008570432783E-4},{"$f":"'erf Compare'!G47-'erf Compare'!B47","v":1.1992766080215489E-7},{"$f":"'erf Compare'!H47-'erf Compare'!B47","v":-4.5786251003769873E-3},{"$f":"'erf Compare'!I47-'erf Compare'!B47","v":-2.2460022661707768E-5}]
[{"$f":"'erf Compare'!A48","v":1.4000000000000048},{"$f":"'erf Compare'!C48-'erf Compare'!B48","v":0},{"$f":"'erf Compare'!D48-'erf Compare'!B48","v":4.2485299722727632E-9},{"$f":"'erf Compare'!E48-'erf Compare'!B48","v":-4.5228891676797445E-2},{"$f":"'erf Compare'!F48-'erf Compare'!B48","v":3.9225048805102691E-4},{"$f":"'erf Compare'!G48-'erf Compare'!B48","v":1.3850586633168405E-7},{"$f":"'erf Compare'!H48-'erf Compare'!B48","v":-4.9814692879691647E-3},{"$f":"'erf Compare'!I48-'erf Compare'!B48","v":-7.2188344427681628E-6}]
[{"$f":"'erf Compare'!A49","v":1.3000000000000047},{"$f":"'erf Compare'!C49-'erf Compare'!B49","v":0},{"$f":"'erf Compare'!D49-'erf Compare'!B49","v":4.7306083494902396E-9},{"$f":"'erf Compare'!E49-'erf Compare'!B49","v":-6.1476644351700083E-2},{"$f":"'erf Compare'!F49-'erf Compare'!B49","v":4.6461136868158892E-4},{"$f":"'erf Compare'!G49-'erf Compare'!B49","v":1.1749789918802378E-7},{"$f":"'erf Compare'!H49-'erf Compare'!B49","v":-5.1878244873164725E-3},{"$f":"'erf Compare'!I49-'erf Compare'!B49","v":9.4406756555587279E-6}]
[{"$f":"'erf Compare'!A50","v":1.2000000000000046},{"$f":"'erf Compare'!C50-'erf Compare'!B50","v":0},{"$f":"'erf Compare'!D50-'erf Compare'!B50","v":3.8058020068731935E-9},{"$f":"'erf Compare'!E50-'erf Compare'!B50","v":-8.1547542810973872E-2},{"$f":"'erf Compare'!F50-'erf Compare'!B50","v":4.1859514501152439E-4},{"$f":"'erf Compare'!G50-'erf Compare'!B50","v":5.7276576814757618E-8},{"$f":"'erf Compare'!H50-'erf Compare'!B50","v":-5.1321568079122359E-3},{"$f":"'erf Compare'!I50-'erf Compare'!B50","v":2.4599715004236522E-5}]
[{"$f":"'erf Compare'!A51","v":1.1000000000000045},{"$f":"'erf Compare'!C51-'erf Compare'!B51","v":0},{"$f":"'erf Compare'!D51-'erf Compare'!B51","v":6.0968030624053426E-10},{"$f":"'erf Compare'!E51-'erf Compare'!B51","v":-0.1054215987943482},{"$f":"'erf Compare'!F51-'erf Compare'!B51","v":2.4881135900911566E-4},{"$f":"'erf Compare'!G51-'erf Compare'!B51","v":-2.6370486350124622E-8},{"$f":"'erf Compare'!H51-'erf Compare'!B51","v":-4.7665066580653281E-3},{"$f":"'erf Compare'!I51-'erf Compare'!B51","v":3.4984967583806537E-5}]
[{"$f":"'erf Compare'!A52","v":1.0000000000000044},{"$f":"'erf Compare'!C52-'erf Compare'!B52","v":0},{"$f":"'erf Compare'!D52-'erf Compare'!B52","v":-5.1897084407670491E-9},{"$f":"'erf Compare'!E52-'erf Compare'!B52","v":-0.13260026901934596},{"$f":"'erf Compare'!F52-'erf Compare'!B52","v":-8.1295575256046249E-6},{"$f":"'erf Compare'!G52-'erf Compare'!B52","v":-1.0320212517900273E-7},{"$f":"'erf Compare'!H52-'erf Compare'!B52","v":-4.0746776597623269E-3},{"$f":"'erf Compare'!I52-'erf Compare'!B52","v":3.783154339853656E-5}]
[{"$f":"'erf Compare'!A53","v":0.90000000000000446},{"$f":"'erf Compare'!C53-'erf Compare'!B53","v":0},{"$f":"'erf Compare'!D53-'erf Compare'!B53","v":-1.2430239282323896E-8},{"$f":"'erf Compare'!E53-'erf Compare'!B53","v":-0.16193849384870374},{"$f":"'erf Compare'!F53-'erf Compare'!B53","v":-2.7334982569038324E-4},{"$f":"'erf Compare'!G53-'erf Compare'!B53","v":-1.3750916461052753E-7},{"$f":"'erf Compare'!H53-'erf Compare'!B53","v":-3.0853659334368899E-3},{"$f":"'erf Compare'!I53-'erf Compare'!B53","v":3.1911833400566358E-5}]
[{"$f":"'erf Compare'!A54","v":0.80000000000000449},{"$f":"'erf Compare'!C54-'erf Compare'!B54","v":0},{"$f":"'erf Compare'!D54-'erf Compare'!B54","v":-1.7473856916971897E-8},{"$f":"'erf Compare'!E54-'erf Compare'!B54","v":-0.19150365038741235},{"$f":"'erf Compare'!F54-'erf Compare'!B54","v":-4.4456432852046923E-4},{"$f":"'erf Compare'!G54-'erf Compare'!B54","v":-1.0496546887228675E-7},{"$f":"'erf Compare'!H54-'erf Compare'!B54","v":-1.8808179377798329E-3},{"$f":"'erf Compare'!I54-'erf Compare'!B54","v":1.8401874998352774E-5}]
[{"$f":"'erf Compare'!A55","v":0.70000000000000451},{"$f":"'erf Compare'!C55-'erf Compare'!B55","v":0},{"$f":"'erf Compare'!D55-'erf Compare'!B55","v":-1.4293515149255143E-8},{"$f":"'erf Compare'!E55-'erf Compare'!B55","v":-0.21850078103133874},{"$f":"'erf Compare'!F55-'erf Compare'!B55","v":-4.343308091457887E-4},{"$f":"'erf Compare'!G55-'erf Compare'!B55","v":-1.1981315939380011E-8},{"$f":"'erf Compare'!H55-'erf Compare'!B55","v":-5.9711380099947142E-4},{"$f":"'erf Compare'!I55-'erf Compare'!B55","v":1.1451467049061748E-6}]
[{"$f":"'erf Compare'!A56","v":0.60000000000000453},{"$f":"'erf Compare'!C56-'erf Compare'!B56","v":0},{"$f":"'erf Compare'!D56-'erf Compare'!B56","v":2.4673804110975084E-9},{"$f":"'erf Compare'!E56-'erf Compare'!B56","v":-0.23930580049316741},{"$f":"'erf Compare'!F56-'erf Compare'!B56","v":-2.1846065090647127E-4},{"$f":"'erf Compare'!G56-'erf Compare'!B56","v":9.4001510797525611E-8},{"$f":"'erf Compare'!H56-'erf Compare'!B56","v":5.8766152942979488E-4},{"$f":"'erf Compare'!I56-'erf Compare'!B56","v":-1.4103756446948168E-5}]
[{"$f":"'erf Compare'!A57","v":0.50000000000000455},{"$f":"'erf Compare'!C57-'erf Compare'!B57","v":0},{"$f":"'erf Compare'!D57-'erf Compare'!B57","v":2.9910195764593084E-8},{"$f":"'erf Compare'!E57-'erf Compare'!B57","v":-0.24964063402864833},{"$f":"'erf Compare'!F57-'erf Compare'!B57","v":1.2494950416652717E-4},{"$f":"'erf Compare'!G57-'erf Compare'!B57","v":1.3849169999691213E-7},{"$f":"'erf Compare'!H57-'erf Compare'!B57","v":1.4800842628572841E-3},{"$f":"'erf Compare'!I57-'erf Compare'!B57","v":-2.1630644286285694E-5}]
[{"$f":"'erf Compare'!A58","v":0.40000000000000457},{"$f":"'erf Compare'!C58-'erf Compare'!B58","v":0},{"$f":"'erf Compare'!D58-'erf Compare'!B58","v":4.7852289186689489E-8},{"$f":"'erf Compare'!E58-'erf Compare'!B58","v":-0.24490432964541381},{"$f":"'erf Compare'!F58-'erf Compare'!B58","v":4.1330748731943645E-4},{"$f":"'erf Compare'!G58-'erf Compare'!B58","v":6.8420615895181669E-8},{"$f":"'erf Compare'!H58-'erf Compare'!B58","v":1.9137077644679201E-3},{"$f":"'erf Compare'!I58-'erf Compare'!B58","v":-1.8568706186827821E-5}]
[{"$f":"'erf Compare'!A59","v":0.3000000000000046},{"$f":"'erf Compare'!C59-'erf Compare'!B59","v":0},{"$f":"'erf Compare'!D59-'erf Compare'!B59","v":2.4644458418432436E-8},{"$f":"'erf Compare'!E59-'erf Compare'!B59","v":-0.22064342714573176},{"$f":"'erf Compare'!F59-'erf Compare'!B59","v":4.2424357312415006E-4},{"$f":"'erf Compare'!G59-'erf Compare'!B59","v":-7.6730115539103139E-8},{"$f":"'erf Compare'!H59-'erf Compare'!B59","v":1.805170307726478E-3},{"$f":"'erf Compare'!I59-'erf Compare'!B59","v":-7.4538404417623383E-6}]
[{"$f":"'erf Compare'!A60","v":0.20000000000000459},{"$f":"'erf Compare'!C60-'erf Compare'!B60","v":0},{"$f":"'erf Compare'!D60-'erf Compare'!B60","v":-2.9881435159584413E-8},{"$f":"'erf Compare'!E60-'erf Compare'!B60","v":-0.17310889879494701},{"$f":"'erf Compare'!F60-'erf Compare'!B60","v":5.2875802379281911E-5},{"$f":"'erf Compare'!G60-'erf Compare'!B60","v":-1.3135216272996963E-7},{"$f":"'erf Compare'!H60-'erf Compare'!B60","v":1.2191562275783441E-3},{"$f":"'erf Compare'!I60-'erf Compare'!B60","v":3.4751402555044386E-6}]
[{"$f":"'erf Compare'!A61","v":0.10000000000000459},{"$f":"'erf Compare'!C61-'erf Compare'!B61","v":0},{"$f":"'erf Compare'!D61-'erf Compare'!B61","v":1.275228987684951E-8},{"$f":"'erf Compare'!E61-'erf Compare'!B61","v":-9.981519458479983E-2},{"$f":"'erf Compare'!F61-'erf Compare'!B61","v":-4.2578501095992538E-4},{"$f":"'erf Compare'!G61-'erf Compare'!B61","v":4.9603910867723755E-8},{"$f":"'erf Compare'!H61-'erf Compare'!B61","v":4.3431178375007151E-4},{"$f":"'erf Compare'!I61-'erf Compare'!B61","v":5.0246957737920539E-6}]
[{"$f":"'erf Compare'!A62","v":4.5796699765787707E-15},{"$f":"'erf Compare'!C62-'erf Compare'!B62","v":0},{"$f":"'erf Compare'!D62-'erf Compare'!B62","v":-3.0000000544387967E-8},{"$f":"'erf Compare'!E62-'erf Compare'!B62","v":-5.1676041937442816E-15},{"$f":"'erf Compare'!F62-'erf Compare'!B62","v":1.6146632445646982E-16},{"$f":"'erf Compare'!G62-'erf Compare'!B62","v":1.0000002134153539E-9},{"$f":"'erf Compare'!H62-'erf Compare'!B62","v":5.0444021993954163E-17},{"$f":"'erf Compare'!I62-'erf Compare'!B62","v":-2.6629199942609133E-17}]
[{"$f":"'erf Compare'!A63","v":-9.9999999999995426E-2},{"$f":"'erf Compare'!C63-'erf Compare'!B63","v":0},{"$f":"'erf Compare'!D63-'erf Compare'!B63","v":-1.27522900017496E-8},{"$f":"'erf Compare'!E63-'erf Compare'!B63","v":9.9815194584791933E-2},{"$f":"'erf Compare'!F63-'erf Compare'!B63","v":4.2578501095968946E-4},{"$f":"'erf Compare'!G63-'erf Compare'!B63","v":-4.9603910812212604E-8},{"$f":"'erf Compare'!H63-'erf Compare'!B63","v":-4.3431178374997437E-4},{"$f":"'erf Compare'!I63-'erf Compare'!B63","v":-5.0246957737642983E-6}]
[{"$f":"'erf Compare'!A64","v":-0.19999999999999543},{"$f":"'erf Compare'!C64-'erf Compare'!B64","v":0},{"$f":"'erf Compare'!D64-'erf Compare'!B64","v":2.9881435104073262E-8},{"$f":"'erf Compare'!E64-'erf Compare'!B64","v":0.17310889879494151},{"$f":"'erf Compare'!F64-'erf Compare'!B64","v":-5.2875802379448444E-5},{"$f":"'erf Compare'!G64-'erf Compare'!B64","v":1.3135216278548079E-7},{"$f":"'erf Compare'!H64-'erf Compare'!B64","v":-1.2191562275782886E-3},{"$f":"'erf Compare'!I64-'erf Compare'!B64","v":-3.4751402555321942E-6}]
[{"$f":"'erf Compare'!A65","v":-0.29999999999999544},{"$f":"'erf Compare'!C65-'erf Compare'!B65","v":0},{"$f":"'erf Compare'!D65-'erf Compare'!B65","v":-2.4644458473943587E-8},{"$f":"'erf Compare'!E65-'erf Compare'!B65","v":0.2206434271457286},{"$f":"'erf Compare'!F65-'erf Compare'!B65","v":-4.2424357312442762E-4},{"$f":"'erf Compare'!G65-'erf Compare'!B65","v":7.6730115983192348E-8},{"$f":"'erf Compare'!H65-'erf Compare'!B65","v":-1.8051703077264225E-3},{"$f":"'erf Compare'!I65-'erf Compare'!B65","v":7.4538404417623383E-6}]
[{"$f":"'erf Compare'!A66","v":-0.39999999999999547},{"$f":"'erf Compare'!C66-'erf Compare'!B66","v":0},{"$f":"'erf Compare'!D66-'erf Compare'!B66","v":-4.7852289131178338E-8},{"$f":"'erf Compare'!E66-'erf Compare'!B66","v":0.24490432964541264},{"$f":"'erf Compare'!F66-'erf Compare'!B66","v":-4.1330748731938094E-4},{"$f":"'erf Compare'!G66-'erf Compare'!B66","v":-6.8420615784159367E-8},{"$f":"'erf Compare'!H66-'erf Compare'!B66","v":-1.9137077644679756E-3},{"$f":"'erf Compare'!I66-'erf Compare'!B66","v":1.8568706186938844E-5}]
[{"$f":"'erf Compare'!A67","v":-0.49999999999999545},{"$f":"'erf Compare'!C67-'erf Compare'!B67","v":0},{"$f":"'erf Compare'!D67-'erf Compare'!B67","v":-2.9910195764593084E-8},{"$f":"'erf Compare'!E67-'erf Compare'!B67","v":0.24964063402864867},{"$f":"'erf Compare'!F67-'erf Compare'!B67","v":-1.2494950416674921E-4},{"$f":"'erf Compare'!G67-'erf Compare'!B67","v":-1.3849170010793443E-7},{"$f":"'erf Compare'!H67-'erf Compare'!B67","v":-1.4800842628573951E-3},{"$f":"'erf Compare'!I67-'erf Compare'!B67","v":2.1630644286396716E-5}]
[{"$f":"'erf Compare'!A68","v":-0.59999999999999543},{"$f":"'erf Compare'!C68-'erf Compare'!B68","v":0},{"$f":"'erf Compare'!D68-'erf Compare'!B68","v":-2.4673805221198108E-9},{"$f":"'erf Compare'!E68-'erf Compare'!B68","v":0.23930580049316874},{"$f":"'erf Compare'!F68-'erf Compare'!B68","v":2.184606509061382E-4},{"$f":"'erf Compare'!G68-'erf Compare'!B68","v":-9.4001510908547914E-8},{"$f":"'erf Compare'!H68-'erf Compare'!B68","v":-5.8766152943012795E-4},{"$f":"'erf Compare'!I68-'erf Compare'!B68","v":1.4103756446726123E-5}]
[{"$f":"'erf Compare'!A69","v":-0.6999999999999954},{"$f":"'erf Compare'!C69-'erf Compare'!B69","v":0},{"$f":"'erf Compare'!D69-'erf Compare'!B69","v":1.4293515149255143E-8},{"$f":"'erf Compare'!E69-'erf Compare'!B69","v":0.21850078103134096},{"$f":"'erf Compare'!F69-'erf Compare'!B69","v":4.343308091457887E-4},{"$f":"'erf Compare'!G69-'erf Compare'!B69","v":1.1981315828357708E-8},{"$f":"'erf Compare'!H69-'erf Compare'!B69","v":5.971138009993604E-4},{"$f":"'erf Compare'!I69-'erf Compare'!B69","v":-1.1451467049061748E-6}]
[{"$f":"'erf Compare'!A70","v":-0.79999999999999538},{"$f":"'erf Compare'!C70-'erf Compare'!B70","v":0},{"$f":"'erf Compare'!D70-'erf Compare'!B70","v":1.7473856694927292E-8},{"$f":"'erf Compare'!E70-'erf Compare'!B70","v":0.1915036503874149},{"$f":"'erf Compare'!F70-'erf Compare'!B70","v":4.4456432852035821E-4},{"$f":"'erf Compare'!G70-'erf Compare'!B70","v":1.0496546876126445E-7},{"$f":"'erf Compare'!H70-'erf Compare'!B70","v":1.8808179377797218E-3},{"$f":"'erf Compare'!I70-'erf Compare'!B70","v":-1.8401874998352774E-5}]
[{"$f":"'erf Compare'!A71","v":-0.89999999999999536},{"$f":"'erf Compare'!C71-'erf Compare'!B71","v":0},{"$f":"'erf Compare'!D71-'erf Compare'!B71","v":1.2430239504368501E-8},{"$f":"'erf Compare'!E71-'erf Compare'!B71","v":0.16193849384870651},{"$f":"'erf Compare'!F71-'erf Compare'!B71","v":2.7334982569060529E-4},{"$f":"'erf Compare'!G71-'erf Compare'!B71","v":1.3750916483257214E-7},{"$f":"'erf Compare'!H71-'erf Compare'!B71","v":3.0853659334370009E-3},{"$f":"'erf Compare'!I71-'erf Compare'!B71","v":-3.1911833400455336E-5}]
[{"$f":"'erf Compare'!A72","v":-0.99999999999999534},{"$f":"'erf Compare'!C72-'erf Compare'!B72","v":0},{"$f":"'erf Compare'!D72-'erf Compare'!B72","v":5.1897084407670491E-9},{"$f":"'erf Compare'!E72-'erf Compare'!B72","v":0.13260026901934863},{"$f":"'erf Compare'!F72-'erf Compare'!B72","v":8.1295575256046249E-6},{"$f":"'erf Compare'!G72-'erf Compare'!B72","v":1.0320212517900273E-7},{"$f":"'erf Compare'!H72-'erf Compare'!B72","v":4.0746776597622159E-3},{"$f":"'erf Compare'!I72-'erf Compare'!B72","v":-3.783154339853656E-5}]
[{"$f":"'erf Compare'!A73","v":-1.0999999999999954},{"$f":"'erf Compare'!C73-'erf Compare'!B73","v":0},{"$f":"'erf Compare'!D73-'erf Compare'!B73","v":-6.096801952182318E-10},{"$f":"'erf Compare'!E73-'erf Compare'!B73","v":0.10542159879435076},{"$f":"'erf Compare'!F73-'erf Compare'!B73","v":-2.4881135900900464E-4},{"$f":"'erf Compare'!G73-'erf Compare'!B73","v":2.6370486461146925E-8},{"$f":"'erf Compare'!H73-'erf Compare'!B73","v":4.7665066580654392E-3},{"$f":"'erf Compare'!I73-'erf Compare'!B73","v":-3.4984967583584492E-5}]
[{"$f":"'erf Compare'!A74","v":-1.1999999999999955},{"$f":"'erf Compare'!C74-'erf Compare'!B74","v":0},{"$f":"'erf Compare'!D74-'erf Compare'!B74","v":-3.805801895850891E-9},{"$f":"'erf Compare'!E74-'erf Compare'!B74","v":8.1547542810975981E-2},{"$f":"'erf Compare'!F74-'erf Compare'!B74","v":-4.1859514501141337E-4},{"$f":"'erf Compare'!G74-'erf Compare'!B74","v":-5.7276576703735316E-8},{"$f":"'erf Compare'!H74-'erf Compare'!B74","v":5.1321568079122359E-3},{"$f":"'erf Compare'!I74-'erf Compare'!B74","v":-2.45997150041255E-5}]
[{"$f":"'erf Compare'!A75","v":-1.2999999999999956},{"$f":"'erf Compare'!C75-'erf Compare'!B75","v":0},{"$f":"'erf Compare'!D75-'erf Compare'!B75","v":-4.7306081274456346E-9},{"$f":"'erf Compare'!E75-'erf Compare'!B75","v":6.147664435170197E-2},{"$f":"'erf Compare'!F75-'erf Compare'!B75","v":-4.6461136868136688E-4},{"$f":"'erf Compare'!G75-'erf Compare'!B75","v":-1.1749789896597918E-7},{"$f":"'erf Compare'!H75-'erf Compare'!B75","v":5.1878244873166945E-3},{"$f":"'erf Compare'!I75-'erf Compare'!B75","v":-9.4406756553366833E-6}]
[{"$f":"'erf Compare'!A76","v":-1.3999999999999957},{"$f":"'erf Compare'!C76-'erf Compare'!B76","v":0},{"$f":"'erf Compare'!D76-'erf Compare'!B76","v":-4.2485298612504607E-9},{"$f":"'erf Compare'!E76-'erf Compare'!B76","v":4.5228891676798888E-2},{"$f":"'erf Compare'!F76-'erf Compare'!B76","v":-3.9225048805091589E-4},{"$f":"'erf Compare'!G76-'erf Compare'!B76","v":-1.3850586622066174E-7},{"$f":"'erf Compare'!H76-'erf Compare'!B76","v":4.9814692879693867E-3},{"$f":"'erf Compare'!I76-'erf Compare'!B76","v":7.2188344428791851E-6}]
[{"$f":"'erf Compare'!A77","v":-1.4999999999999958},{"$f":"'erf Compare'!C77-'erf Compare'!B77","v":0},{"$f":"'erf Compare'!D77-'erf Compare'!B77","v":-3.1751641316191126E-9},{"$f":"'erf Compare'!E77-'erf Compare'!B77","v":3.2509887025097384E-2},{"$f":"'erf Compare'!F77-'erf Compare'!B77","v":-2.3593008570454987E-4},{"$f":"'erf Compare'!G77-'erf Compare'!B77","v":-1.1992766091317719E-7},{"$f":"'erf Compare'!H77-'erf Compare'!B77","v":4.5786251003768763E-3},{"$f":"'erf Compare'!I77-'erf Compare'!B77","v":2.2460022661485723E-5}]
[{"$f":"'erf Compare'!A78","v":-1.5999999999999959},{"$f":"'erf Compare'!C78-'erf Compare'!B78","v":0},{"$f":"'erf Compare'!D78-'erf Compare'!B78","v":-2.0540791290102334E-9},{"$f":"'erf Compare'!E78-'erf Compare'!B78","v":2.2851569590957688E-2},{"$f":"'erf Compare'!F78-'erf Compare'!B78","v":-4.1736290875782345E-5},{"$f":"'erf Compare'!G78-'erf Compare'!B78","v":-7.2461645350685444E-8},{"$f":"'erf Compare'!H78-'erf Compare'!B78","v":4.0496751149201593E-3},{"$f":"'erf Compare'!I78-'erf Compare'!B78","v":3.4247857790603575E-5}]
[{"$f":"'erf Compare'!A79","v":-1.699999999999996},{"$f":"'erf Compare'!C79-'erf Compare'!B79","v":0},{"$f":"'erf Compare'!D79-'erf Compare'!B79","v":-1.1508596298170914E-9},{"$f":"'erf Compare'!E79-'erf Compare'!B79","v":1.5720272884516939E-2},{"$f":"'erf Compare'!F79-'erf Compare'!B79","v":1.4755513639252982E-4},{"$f":"'erf Compare'!G79-'erf Compare'!B79","v":-1.1616831052663201E-8},{"$f":"'erf Compare'!H79-'erf Compare'!B79","v":3.4600903700535701E-3},{"$f":"'erf Compare'!I79-'erf Compare'!B79","v":4.1604772904269005E-5}]
[{"$f":"'erf Compare'!A80","v":-1.799999999999996},{"$f":"'erf Compare'!C80-'erf Compare'!B80","v":0},{"$f":"'erf Compare'!D80-'erf Compare'!B80","v":-5.3524751297828743E-10},{"$f":"'erf Compare'!E80-'erf Compare'!B80","v":1.0590974248796514E-2},{"$f":"'erf Compare'!F80-'erf Compare'!B80","v":3.0155213413873838E-4},{"$f":"'erf Compare'!G80-'erf Compare'!B80","v":4.782420492954742E-8},{"$f":"'erf Compare'!H80-'erf Compare'!B80","v":2.8641845289740786E-3},{"$f":"'erf Compare'!I80-'erf Compare'!B80","v":4.4504477997087122E-5}]
[{"$f":"'erf Compare'!A81","v":-1.8999999999999961},{"$f":"'erf Compare'!C81-'erf Compare'!B81","v":0},{"$f":"'erf Compare'!D81-'erf Compare'!B81","v":-1.7265056051485317E-10},{"$f":"'erf Compare'!E81-'erf Compare'!B81","v":6.9917506955864406E-3},{"$f":"'erf Compare'!F81-'erf Compare'!B81","v":4.0503957597326501E-4},{"$f":"'erf Compare'!G81-'erf Compare'!B81","v":9.5258617438531701E-8},{"$f":"'erf Compare'!H81-'erf Compare'!B81","v":2.3022043198867026E-3},{"$f":"'erf Compare'!I81-'erf Compare'!B81","v":4.360325746277649E-5}]
[{"$f":"'erf Compare'!A82","v":-1.9999999999999962},{"$f":"'erf Compare'!C82-'erf Compare'!B82","v":1.2212453270876722E-15},{"$f":"'erf Compare'!D82-'erf Compare'!B82","v":8.2879259011292561E-12},{"$f":"'erf Compare'!E82-'erf Compare'!B82","v":4.5249423964435209E-3},{"$f":"'erf Compare'!F82-'erf Compare'!B82","v":4.5612640637859858E-4},{"$f":"'erf Compare'!G82-'erf Compare'!B82","v":1.2543773497686317E-7},{"$f":"'erf Compare'!H82-'erf Compare'!B82","v":1.8001123238626793E-3},{"$f":"'erf Compare'!I82-'erf Compare'!B82","v":3.9922742651965493E-5}]
[{"$f":"'erf Compare'!A83","v":-2.0999999999999961},{"$f":"'erf Compare'!C83-'erf Compare'!B83","v":8.8817841970012523E-16},{"$f":"'erf Compare'!D83-'erf Compare'!B83","v":7.7510886598020079E-11},{"$f":"'erf Compare'!E83-'erf Compare'!B83","v":2.8720096478468404E-3},{"$f":"'erf Compare'!F83-'erf Compare'!B83","v":4.6204251048498346E-4},{"$f":"'erf Compare'!G83-'erf Compare'!B83","v":1.3790290986914755E-7},{"$f":"'erf Compare'!H83-'erf Compare'!B83","v":1.3712167650541396E-3},{"$f":"'erf Compare'!I83-'erf Compare'!B83","v":3.4568040956028945E-5}]
[{"$f":"'erf Compare'!A84","v":-2.1999999999999962},{"$f":"'erf Compare'!C84-'erf Compare'!B84","v":0},{"$f":"'erf Compare'!D84-'erf Compare'!B84","v":8.801626094623316E-11},{"$f":"'erf Compare'!E84-'erf Compare'!B84","v":1.7883113970833531E-3},{"$f":"'erf Compare'!F84-'erf Compare'!B84","v":4.345643117548148E-4},{"$f":"'erf Compare'!G84-'erf Compare'!B84","v":1.3549083066610734E-7},{"$f":"'erf Compare'!H84-'erf Compare'!B84","v":1.018808148040673E-3},{"$f":"'erf Compare'!I84-'erf Compare'!B84","v":2.8526331999456644E-5}]
[{"$f":"'erf Compare'!A85","v":-2.2999999999999963},{"$f":"'erf Compare'!C85-'erf Compare'!B85","v":2.886579864025407E-15},{"$f":"'erf Compare'!D85-'erf Compare'!B85","v":7.3693939839358791E-11},{"$f":"'erf Compare'!E85-'erf Compare'!B85","v":1.092690839249788E-3},{"$f":"'erf Compare'!F85-'erf Compare'!B85","v":3.8629533111689263E-4},{"$f":"'erf Compare'!G85-'erf Compare'!B85","v":1.226403303355994E-7},{"$f":"'erf Compare'!H85-'erf Compare'!B85","v":7.3910224818740655E-4},{"$f":"'erf Compare'!I85-'erf Compare'!B85","v":2.2556647691018838E-5}]
[{"$f":"'erf Compare'!A86","v":-2.3999999999999964},{"$f":"'erf Compare'!C86-'erf Compare'!B86","v":-2.2204460492503131E-15},{"$f":"'erf Compare'!D86-'erf Compare'!B86","v":5.3088977658433123E-11},{"$f":"'erf Compare'!E86-'erf Compare'!B86","v":6.5529662985230885E-4},{"$f":"'erf Compare'!F86-'erf Compare'!B86","v":3.2827381282940493E-4},{"$f":"'erf Compare'!G86-'erf Compare'!B86","v":1.039853475548469E-7},{"$f":"'erf Compare'!H86-'erf Compare'!B86","v":5.2399145338044573E-4},{"$f":"'erf Compare'!I86-'erf Compare'!B86","v":1.7158160892982721E-5}]
[{"$f":"'erf Compare'!A87","v":-2.4999999999999964},{"$f":"'erf Compare'!C87-'erf Compare'!B87","v":2.3314683517128287E-15},{"$f":"'erf Compare'!D87-'erf Compare'!B87","v":3.4604763499146429E-11},{"$f":"'erf Compare'!E87-'erf Compare'!B87","v":3.8577543247275692E-4},{"$f":"'erf Compare'!F87-'erf Compare'!B87","v":2.6884821034667272E-4},{"$f":"'erf Compare'!G87-'erf Compare'!B87","v":8.3445951370997307E-8},{"$f":"'erf Compare'!H87-'erf Compare'!B87","v":3.6331447824788921E-4},{"$f":"'erf Compare'!I87-'erf Compare'!B87","v":1.2593051393561261E-5}]
[{"$f":"'erf Compare'!A88","v":-2.5999999999999965},{"$f":"'erf Compare'!C88-'erf Compare'!B88","v":-4.1078251911130792E-15},{"$f":"'erf Compare'!D88-'erf Compare'!B88","v":2.0849322268645665E-11},{"$f":"'erf Compare'!E88-'erf Compare'!B88","v":2.2296632073592892E-4},{"$f":"'erf Compare'!F88-'erf Compare'!B88","v":2.1349583439134179E-4},{"$f":"'erf Compare'!G88-'erf Compare'!B88","v":6.3818246687219471E-8},{"$f":"'erf Compare'!H88-'erf Compare'!B88","v":2.4653077703895576E-4},{"$f":"'erf Compare'!I88-'erf Compare'!B88","v":8.9385505248618102E-6}]
[{"$f":"'erf Compare'!A89","v":-2.6999999999999966},{"$f":"'erf Compare'!C89-'erf Compare'!B89","v":-1.4432899320127035E-14},{"$f":"'erf Compare'!D89-'erf Compare'!B89","v":1.1728840121350004E-11},{"$f":"'erf Compare'!E89-'erf Compare'!B89","v":1.2652867815499125E-4},{"$f":"'erf Compare'!F89-'erf Compare'!B89","v":1.6520161799549182E-4},{"$f":"'erf Compare'!G89-'erf Compare'!B89","v":4.6745340931408919E-8},{"$f":"'erf Compare'!H89-'erf Compare'!B89","v":1.6381300947332367E-4},{"$f":"'erf Compare'!I89-'erf Compare'!B89","v":6.1473409478374208E-6}]
[{"$f":"'erf Compare'!A90","v":-2.7999999999999967},{"$f":"'erf Compare'!C90-'erf Compare'!B90","v":2.298161660974074E-14},{"$f":"'erf Compare'!D90-'erf Compare'!B90","v":6.2290173019619033E-12},{"$f":"'erf Compare'!E90-'erf Compare'!B90","v":7.0502996430299447E-5},{"$f":"'erf Compare'!F90-'erf Compare'!B90","v":1.2507450379639629E-4},{"$f":"'erf Compare'!G90-'erf Compare'!B90","v":3.2914302727782285E-8},{"$f":"'erf Compare'!H90-'erf Compare'!B90","v":1.066466306997027E-4},{"$f":"'erf Compare'!I90-'erf Compare'!B90","v":4.1025086457979754E-6}]
[{"$f":"'erf Compare'!A91","v":-2.8999999999999968},{"$f":"'erf Compare'!C91-'erf Compare'!B91","v":2.8976820942716586E-14},{"$f":"'erf Compare'!D91-'erf Compare'!B91","v":3.1055158444814879E-12},{"$f":"'erf Compare'!E91-'erf Compare'!B91","v":3.8575168531118642E-5},{"$f":"'erf Compare'!F91-'erf Compare'!B91","v":9.2983149158065714E-5},{"$f":"'erf Compare'!G91-'erf Compare'!B91","v":2.2341532623926241E-8},{"$f":"'erf Compare'!H91-'erf Compare'!B91","v":6.8057918797936878E-5},{"$f":"'erf Compare'!I91-'erf Compare'!B91","v":2.6600991782643746E-6}]
[{"$f":"'erf Compare'!A92","v":-2.9999999999999969},{"$f":"'erf Compare'!C92-'erf Compare'!B92","v":1.3433698597964394E-14},{"$f":"'erf Compare'!D92-'erf Compare'!B92","v":1.436295526957565E-12},{"$f":"'erf Compare'!E92-'erf Compare'!B92","v":2.0724929108872914E-5},{"$f":"'erf Compare'!F92-'erf Compare'!B92","v":6.8093085690001942E-5},{"$f":"'erf Compare'!G92-'erf Compare'!B92","v":1.465191257210563E-8},{"$f":"'erf Compare'!H92-'erf Compare'!B92","v":4.259283132312941E-5},{"$f":"'erf Compare'!I92-'erf Compare'!B92","v":1.6775997018214639E-6}]
[{"$f":"'erf Compare'!A93","v":-3.099999999999997},{"$f":"'erf Compare'!C93-'erf Compare'!B93","v":-9.9142916099026479E-14},{"$f":"'erf Compare'!D93-'erf Compare'!B93","v":5.0659476613645893E-13},{"$f":"'erf Compare'!E93-'erf Compare'!B93","v":1.0933485680486577E-5},{"$f":"'erf Compare'!F93-'erf Compare'!B93","v":4.9262731581678487E-5},{"$f":"'erf Compare'!G93-'erf Compare'!B93","v":9.3005320112027334E-9},{"$f":"'erf Compare'!H93-'erf Compare'!B93","v":2.6151669355267693E-5},{"$f":"'erf Compare'!I93-'erf Compare'!B93","v":1.029929924345474E-6}]
[{"$f":"'erf Compare'!A94","v":-3.1999999999999971},{"$f":"'erf Compare'!C94-'erf Compare'!B94","v":-2.177147351289932E-13},{"$f":"'erf Compare'!D94-'erf Compare'!B94","v":1.2656542480726785E-14},{"$f":"'erf Compare'!E94-'erf Compare'!B94","v":5.6636115152164379E-6},{"$f":"'erf Compare'!F94-'erf Compare'!B94","v":3.5301861553427294E-5},{"$f":"'erf Compare'!G94-'erf Compare'!B94","v":5.7226138272525873E-9},{"$f":"'erf Compare'!H94-'erf Compare'!B94","v":1.5759179872620876E-5},{"$f":"'erf Compare'!I94-'erf Compare'!B94","v":6.1600884460055738E-7}]
[{"$f":"'erf Compare'!A95","v":-3.2999999999999972},{"$f":"'erf Compare'!C95-'erf Compare'!B95","v":3.4128255776977312E-13},{"$f":"'erf Compare'!D95-'erf Compare'!B95","v":4.134470543704083E-13},{"$f":"'erf Compare'!E95-'erf Compare'!B95","v":2.8805879619397956E-6},{"$f":"'erf Compare'!F95-'erf Compare'!B95","v":2.5118350569508507E-5},{"$f":"'erf Compare'!G95-'erf Compare'!B95","v":3.4179709063053565E-9},{"$f":"'erf Compare'!H95-'erf Compare'!B95","v":9.3238364746728308E-6},{"$f":"'erf Compare'!I95-'erf Compare'!B95","v":3.5918067320395153E-7}]
[{"$f":"'erf Compare'!A96","v":-3.3999999999999972},{"$f":"'erf Compare'!C96-'erf Compare'!B96","v":3.5860203695392556E-14},{"$f":"'erf Compare'!D96-'erf Compare'!B96","v":4.8960835385969403E-14},{"$f":"'erf Compare'!E96-'erf Compare'!B96","v":1.4384700399716621E-6},{"$f":"'erf Compare'!F96-'erf Compare'!B96","v":1.7785072673803803E-5},{"$f":"'erf Compare'!G96-'erf Compare'!B96","v":1.982959241253468E-9},{"$f":"'erf Compare'!H96-'erf Compare'!B96","v":5.4178712394215012E-6},{"$f":"'erf Compare'!I96-'erf Compare'!B96","v":2.0428345504086565E-7}]
[{"$f":"'erf Compare'!A97","v":-3.4999999999999973},{"$f":"'erf Compare'!C97-'erf Compare'!B97","v":-6.0160195602954047E-8},{"$f":"'erf Compare'!D97-'erf Compare'!B97","v":-6.0160200376913053E-8},{"$f":"'erf Compare'!E97-'erf Compare'!B97","v":6.450663599943951E-7},{"$f":"'erf Compare'!F97-'erf Compare'!B97","v":1.249583150020328E-5},{"$f":"'erf Compare'!G97-'erf Compare'!B97","v":-5.9041431965667357E-8},{"$f":"'erf Compare'!H97-'erf Compare'!B97","v":3.0327958486786599E-6},{"$f":"'erf Compare'!I97-'erf Compare'!B97","v":5.3227826923851751E-8}]
[{"$f":"'erf Compare'!A98","v":-3.5999999999999974},{"$f":"'erf Compare'!C98-'erf Compare'!B98","v":-2.7238244770799724E-8},{"$f":"'erf Compare'!D98-'erf Compare'!B98","v":-2.7238252098271687E-8},{"$f":"'erf Compare'!E98-'erf Compare'!B98","v":3.1218235108099179E-7},{"$f":"'erf Compare'!F98-'erf Compare'!B98","v":8.8266814568527252E-6},{"$f":"'erf Compare'!G98-'erf Compare'!B98","v":-2.6623983795381889E-8},{"$f":"'erf Compare'!H98-'erf Compare'!B98","v":1.7080053266171902E-6},{"$f":"'erf Compare'!I98-'erf Compare'!B98","v":3.4209707178156634E-8}]
[{"$f":"'erf Compare'!A99","v":-3.6999999999999975},{"$f":"'erf Compare'!C99-'erf Compare'!B99","v":-1.2114596881218631E-8},{"$f":"'erf Compare'!D99-'erf Compare'!B99","v":-1.2114602654378359E-8},{"$f":"'erf Compare'!E99-'erf Compare'!B99","v":1.4824731275897562E-7},{"$f":"'erf Compare'!F99-'erf Compare'!B99","v":6.2333133309389055E-6},{"$f":"'erf Compare'!G99-'erf Compare'!B99","v":-1.1786171927319344E-8},{"$f":"'erf Compare'!H99-'erf Compare'!B99","v":9.4488680069115816E-7},{"$f":"'erf Compare'!I99-'erf Compare'!B99","v":2.0410964696182532E-8}]
[{"$f":"'erf Compare'!A100","v":-3.7999999999999976},{"$f":"'erf Compare'!C100-'erf Compare'!B100","v":-5.2923666560289462E-9},{"$f":"'erf Compare'!D100-'erf Compare'!B100","v":-5.2923703197649274E-9},{"$f":"'erf Compare'!E100-'erf Compare'!B100","v":6.9076027675585294E-8},{"$f":"'erf Compare'!F100-'erf Compare'!B100","v":4.4071288294311728E-6},{"$f":"'erf Compare'!G100-'erf Compare'!B100","v":-5.1212714069492904E-9},{"$f":"'erf Compare'!H100-'erf Compare'!B100","v":5.1368400455498175E-7},{"$f":"'erf Compare'!I100-'erf Compare'!B100","v":1.1529412202726519E-8}]
[{"$f":"'erf Compare'!A101","v":-3.8999999999999977},{"$f":"'erf Compare'!C101-'erf Compare'!B101","v":-2.270684973382231E-9},{"$f":"'erf Compare'!D101-'erf Compare'!B101","v":-2.2706870828059778E-9},{"$f":"'erf Compare'!E101-'erf Compare'!B101","v":3.1580181025780973E-8},{"$f":"'erf Compare'!F101-'erf Compare'!B101","v":3.1232443552520195E-6},{"$f":"'erf Compare'!G101-'erf Compare'!B101","v":-2.1837933683599431E-9},{"$f":"'erf Compare'!H101-'erf Compare'!B101","v":2.7453619577677557E-7},{"$f":"'erf Compare'!I101-'erf Compare'!B101","v":6.2325768990234565E-9}]
[{"$f":"'erf Compare'!A102","v":-3.9999999999999978},{"$f":"'erf Compare'!C102-'erf Compare'!B102","v":-9.567271419541612E-10},{"$f":"'erf Compare'!D102-'erf Compare'!B102","v":-9.5672825217718582E-10},{"$f":"'erf Compare'!E102-'erf Compare'!B102","v":1.4165480455297086E-8},{"$f":"'erf Compare'!F102-'erf Compare'!B102","v":2.2205110024042796E-6},{"$f":"'erf Compare'!G102-'erf Compare'!B102","v":-9.1368923538226454E-10},{"$f":"'erf Compare'!H102-'erf Compare'!B102","v":1.442898797110459E-7},{"$f":"'erf Compare'!I102-'erf Compare'!B102","v":3.2455911291862094E-9}]
[{"$f":"'erf Compare'!A103","v":-4.0999999999999979},{"$f":"'erf Compare'!C103-'erf Compare'!B103","v":-3.9582648270197751E-10},{"$f":"'erf Compare'!D103-'erf Compare'!B103","v":-3.9582703781348982E-10},{"$f":"'erf Compare'!E103-'erf Compare'!B103","v":6.2338851858356747E-9},{"$f":"'erf Compare'!F103-'erf Compare'!B103","v":1.5848198259282853E-6},{"$f":"'erf Compare'!G103-'erf Compare'!B103","v":-3.7502811967016214E-10},{"$f":"'erf Compare'!H103-'erf Compare'!B103","v":7.4599587618351393E-8},{"$f":"'erf Compare'!I103-'erf Compare'!B103","v":1.6350970577505564E-9}]
[{"$f":"'erf Compare'!A104","v":-4.1999999999999975},{"$f":"'erf Compare'!C104-'erf Compare'!B104","v":-1.6079448883488112E-10},{"$f":"'erf Compare'!D104-'erf Compare'!B104","v":-1.6079471087948605E-10},{"$f":"'erf Compare'!E104-'erf Compare'!B104","v":2.6913962170027617E-9},{"$f":"'erf Compare'!F104-'erf Compare'!B104","v":1.1360199264620618E-6},{"$f":"'erf Compare'!G104-'erf Compare'!B104","v":-1.5098455818929324E-10},{"$f":"'erf Compare'!H104-'erf Compare'!B104","v":3.7950798281727316E-8},{"$f":"'erf Compare'!I104-'erf Compare'!B104","v":7.9927076068742053E-10}]
[{"$f":"'erf Compare'!A105","v":-4.2999999999999972},{"$f":"'erf Compare'!C105-'erf Compare'!B105","v":-6.4128924393003217E-11},{"$f":"'erf Compare'!D105-'erf Compare'!B105","v":-6.412903541530568E-11},{"$f":"'erf Compare'!E105-'erf Compare'!B105","v":1.1399032828762756E-9},{"$f":"'erf Compare'!F105-'erf Compare'!B105","v":8.1809178686942374E-7},{"$f":"'erf Compare'!G105-'erf Compare'!B105","v":-5.9611426905803455E-11},{"$f":"'erf Compare'!H105-'erf Compare'!B105","v":1.9001958118103346E-8},{"$f":"'erf Compare'!I105-'erf Compare'!B105","v":3.7989145162953264E-10}]
[{"$f":"'erf Compare'!A106","v":-4.3999999999999968},{"$f":"'erf Compare'!C106-'erf Compare'!B106","v":-2.5108470858015153E-11},{"$f":"'erf Compare'!D106-'erf Compare'!B106","v":-2.5108581880317615E-11},{"$f":"'erf Compare'!E106-'erf Compare'!B106","v":4.7359816068848204E-10},{"$f":"'erf Compare'!F106-'erf Compare'!B106","v":5.919786140173855E-7},{"$f":"'erf Compare'!G106-'erf Compare'!B106","v":-2.3076873745253579E-11},{"$f":"'erf Compare'!H106-'erf Compare'!B106","v":9.3663025113599474E-9},{"$f":"'erf Compare'!I106-'erf Compare'!B106","v":1.7583989819769386E-10}]
[{"$f":"'erf Compare'!A107","v":-4.4999999999999964},{"$f":"'erf Compare'!C107-'erf Compare'!B107","v":-9.6503915969492482E-12},{"$f":"'erf Compare'!D107-'erf Compare'!B107","v":-9.6503915969492482E-12},{"$f":"'erf Compare'!E107-'erf Compare'!B107","v":1.9301182874187361E-10},{"$f":"'erf Compare'!F107-'erf Compare'!B107","v":4.3046317632633446E-7},{"$f":"'erf Compare'!G107-'erf Compare'!B107","v":-8.7578833074530849E-12},{"$f":"'erf Compare'!H107-'erf Compare'!B107","v":4.5459116471135985E-9},{"$f":"'erf Compare'!I107-'erf Compare'!B107","v":7.9356410331854477E-11}]
[{"$f":"'erf Compare'!A108","v":-4.5999999999999961},{"$f":"'erf Compare'!C108-'erf Compare'!B108","v":-3.6407543646532758E-12},{"$f":"'erf Compare'!D108-'erf Compare'!B108","v":-3.6407543646532758E-12},{"$f":"'erf Compare'!E108-'erf Compare'!B108","v":7.7156170341652341E-11},{"$f":"'erf Compare'!F108-'erf Compare'!B108","v":3.145584793751155E-7},{"$f":"'erf Compare'!G108-'erf Compare'!B108","v":-3.2576163988551343E-12},{"$f":"'erf Compare'!H108-'erf Compare'!B108","v":2.1728976395962718E-9},{"$f":"'erf Compare'!I108-'erf Compare'!B108","v":3.4950708993619628E-11}]
[{"$f":"'erf Compare'!A109","v":-4.6999999999999957},{"$f":"'erf Compare'!C109-'erf Compare'!B109","v":-1.3481438188023276E-12},{"$f":"'erf Compare'!D109-'erf Compare'!B109","v":-1.3481438188023276E-12},{"$f":"'erf Compare'!E109-'erf Compare'!B109","v":3.0251912086498578E-11},{"$f":"'erf Compare'!F109-'erf Compare'!B109","v":2.3098916923647295E-7},{"$f":"'erf Compare'!G109-'erf Compare'!B109","v":-1.1873835248366049E-12},{"$f":"'erf Compare'!H109-'erf Compare'!B109","v":1.0230521985121754E-9},{"$f":"'erf Compare'!I109-'erf Compare'!B109","v":1.5033418954146782E-11}]
[{"$f":"'erf Compare'!A110","v":-4.7999999999999954},{"$f":"'erf Compare'!C110-'erf Compare'!B110","v":-4.8994142076708158E-13},{"$f":"'erf Compare'!D110-'erf Compare'!B110","v":-4.8994142076708158E-13},{"$f":"'erf Compare'!E110-'erf Compare'!B110","v":1.1633471963534703E-11},{"$f":"'erf Compare'!F110-'erf Compare'!B110","v":1.7044438183067001E-7},{"$f":"'erf Compare'!G110-'erf Compare'!B110","v":-4.2399417310434728E-13},{"$f":"'erf Compare'!H110-'erf Compare'!B110","v":4.7453052598456225E-10},{"$f":"'erf Compare'!I110-'erf Compare'!B110","v":6.318945366956541E-12}]
[{"$f":"'erf Compare'!A111","v":-4.899999999999995},{"$f":"'erf Compare'!C111-'erf Compare'!B111","v":-1.7474910407599964E-13},{"$f":"'erf Compare'!D111-'erf Compare'!B111","v":-1.7474910407599964E-13},{"$f":"'erf Compare'!E111-'erf Compare'!B111","v":4.3876013933186186E-12},{"$f":"'erf Compare'!F111-'erf Compare'!B111","v":1.2636941526533718E-7},{"$f":"'erf Compare'!G111-'erf Compare'!B111","v":-1.4832579608992091E-13},{"$f":"'erf Compare'!H111-'erf Compare'!B111","v":2.1686985540725345E-10},{"$f":"'erf Compare'!I111-'erf Compare'!B111","v":2.5967006322957786E-12}]
[{"$f":"'erf Compare'!A112","v":-4.9999999999999947},{"$f":"'erf Compare'!C112-'erf Compare'!B112","v":-6.1173288656846125E-14},{"$f":"'erf Compare'!D112-'erf Compare'!B112","v":-6.1173288656846125E-14},{"$f":"'erf Compare'!E112-'erf Compare'!B112","v":1.6229240173970538E-12},{"$f":"'erf Compare'!F112-'erf Compare'!B112","v":9.4130736538744486E-8},{"$f":"'erf Compare'!G112-'erf Compare'!B112","v":-5.084821452783217E-14},{"$f":"'erf Compare'!H112-'erf Compare'!B112","v":9.7669206056139046E-11},{"$f":"'erf Compare'!I112-'erf Compare'!B112","v":1.0437206654501097E-12}]
[{"$f":"'erf Compare'!A113","v":-5.0999999999999943},{"$f":"'erf Compare'!C113-'erf Compare'!B113","v":-2.1094237467877974E-14},{"$f":"'erf Compare'!D113-'erf Compare'!B113","v":-2.1094237467877974E-14},{"$f":"'erf Compare'!E113-'erf Compare'!B113","v":5.88640247656258E-13},{"$f":"'erf Compare'!F113-'erf Compare'!B113","v":7.0438477384193732E-8},{"$f":"'erf Compare'!G113-'erf Compare'!B113","v":-1.7097434579227411E-14},{"$f":"'erf Compare'!H113-'erf Compare'!B113","v":4.3349768219513862E-11},{"$f":"'erf Compare'!I113-'erf Compare'!B113","v":4.1044945220392037E-13}]
[{"$f":"'erf Compare'!A114","v":-5.199999999999994},{"$f":"'erf Compare'!C114-'erf Compare'!B114","v":-7.1054273576010019E-15},{"$f":"'erf Compare'!D114-'erf Compare'!B114","v":-7.1054273576010019E-15},{"$f":"'erf Compare'!E114-'erf Compare'!B114","v":2.0938806244430452E-13},{"$f":"'erf Compare'!F114-'erf Compare'!B114","v":5.2946177442336761E-8},{"$f":"'erf Compare'!G114-'erf Compare'!B114","v":-5.6621374255882984E-15},{"$f":"'erf Compare'!H114-'erf Compare'!B114","v":1.8964052550529686E-11},{"$f":"'erf Compare'!I114-'erf Compare'!B114","v":1.5787371410169726E-13}]
[{"$f":"'erf Compare'!A115","v":-5.2999999999999936},{"$f":"'erf Compare'!C115-'erf Compare'!B115","v":-2.3314683517128287E-15},{"$f":"'erf Compare'!D115-'erf Compare'!B115","v":-2.3314683517128287E-15},{"$f":"'erf Compare'!E115-'erf Compare'!B115","v":7.30526750203353E-14},{"$f":"'erf Compare'!F115-'erf Compare'!B115","v":3.9972543164346064E-8},{"$f":"'erf Compare'!G115-'erf Compare'!B115","v":-1.7763568394002505E-15},{"$f":"'erf Compare'!H115-'erf Compare'!B115","v":8.1775697324815155E-12},{"$f":"'erf Compare'!I115-'erf Compare'!B115","v":5.9507954119908391E-14}]
[{"$f":"'erf Compare'!A116","v":-5.3999999999999932},{"$f":"'erf Compare'!C116-'erf Compare'!B116","v":0},{"$f":"'erf Compare'!D116-'erf Compare'!B116","v":0},{"$f":"'erf Compare'!E116-'erf Compare'!B116","v":2.4980018054066022E-14},{"$f":"'erf Compare'!F116-'erf Compare'!B116","v":3.0307330201040372E-8},{"$f":"'erf Compare'!G116-'erf Compare'!B116","v":0},{"$f":"'erf Compare'!H116-'erf Compare'!B116","v":3.4762193124038276E-12},{"$f":"'erf Compare'!I116-'erf Compare'!B116","v":2.1871393585115584E-14}]
[{"$f":"'erf Compare'!A117","v":-5.4999999999999929},{"$f":"'erf Compare'!C117-'erf Compare'!B117","v":0},{"$f":"'erf Compare'!D117-'erf Compare'!B117","v":0},{"$f":"'erf Compare'!E117-'erf Compare'!B117","v":8.4376949871511897E-15},{"$f":"'erf Compare'!F117-'erf Compare'!B117","v":2.3075374611103427E-8},{"$f":"'erf Compare'!G117-'erf Compare'!B117","v":0},{"$f":"'erf Compare'!H117-'erf Compare'!B117","v":1.4568346529131304E-12},{"$f":"'erf Compare'!I117-'erf Compare'!B117","v":7.9936057773011271E-15}]
[{"$f":"'erf Compare'!A118","v":-5.5999999999999925},{"$f":"'erf Compare'!C118-'erf Compare'!B118","v":0},{"$f":"'erf Compare'!D118-'erf Compare'!B118","v":0},{"$f":"'erf Compare'!E118-'erf Compare'!B118","v":2.7755575615628914E-15},{"$f":"'erf Compare'!F118-'erf Compare'!B118","v":1.7640949256936267E-8},{"$f":"'erf Compare'!G118-'erf Compare'!B118","v":0},{"$f":"'erf Compare'!H118-'erf Compare'!B118","v":6.0196292395175988E-13},{"$f":"'erf Compare'!I118-'erf Compare'!B118","v":2.7755575615628914E-15}]
[{"$f":"'erf Compare'!A119","v":-5.6999999999999922},{"$f":"'erf Compare'!C119-'erf Compare'!B119","v":0},{"$f":"'erf Compare'!D119-'erf Compare'!B119","v":0},{"$f":"'erf Compare'!E119-'erf Compare'!B119","v":8.8817841970012523E-16},{"$f":"'erf Compare'!F119-'erf Compare'!B119","v":1.3540192522754069E-8},{"$f":"'erf Compare'!G119-'erf Compare'!B119","v":0},{"$f":"'erf Compare'!H119-'erf Compare'!B119","v":2.4524826613969708E-13},{"$f":"'erf Compare'!I119-'erf Compare'!B119","v":9.9920072216264089E-16}]
[{"$f":"'erf Compare'!A120","v":-5.7999999999999918},{"$f":"'erf Compare'!C120-'erf Compare'!B120","v":0},{"$f":"'erf Compare'!D120-'erf Compare'!B120","v":0},{"$f":"'erf Compare'!E120-'erf Compare'!B120","v":0},{"$f":"'erf Compare'!F120-'erf Compare'!B120","v":1.0433157893174894E-8},{"$f":"'erf Compare'!G120-'erf Compare'!B120","v":0},{"$f":"'erf Compare'!H120-'erf Compare'!B120","v":9.8476782284251385E-14},{"$f":"'erf Compare'!I120-'erf Compare'!B120","v":0}]
[{"$f":"'erf Compare'!A121","v":-5.8999999999999915},{"$f":"'erf Compare'!C121-'erf Compare'!B121","v":0},{"$f":"'erf Compare'!D121-'erf Compare'!B121","v":0},{"$f":"'erf Compare'!E121-'erf Compare'!B121","v":0},{"$f":"'erf Compare'!F121-'erf Compare'!B121","v":8.069636292518112E-9},{"$f":"'erf Compare'!G121-'erf Compare'!B121","v":0},{"$f":"'erf Compare'!H121-'erf Compare'!B121","v":3.8968828164342995E-14},{"$f":"'erf Compare'!I121-'erf Compare'!B121","v":0}]
[{"$f":"'erf Compare'!A122","v":-5.9999999999999911},{"$f":"'erf Compare'!C122-'erf Compare'!B122","v":0},{"$f":"'erf Compare'!D122-'erf Compare'!B122","v":0},{"$f":"'erf Compare'!E122-'erf Compare'!B122","v":0},{"$f":"'erf Compare'!F122-'erf Compare'!B122","v":6.2646885456985046E-9},{"$f":"'erf Compare'!G122-'erf Compare'!B122","v":0},{"$f":"'erf Compare'!H122-'erf Compare'!B122","v":1.5210055437364645E-14},{"$f":"'erf Compare'!I122-'erf Compare'!B122","v":0}]
[{"$f":"'erf Compare'!A123","v":-6.0999999999999908},{"$f":"'erf Compare'!C123-'erf Compare'!B123","v":0},{"$f":"'erf Compare'!D123-'erf Compare'!B123","v":0},{"$f":"'erf Compare'!E123-'erf Compare'!B123","v":0},{"$f":"'erf Compare'!F123-'erf Compare'!B123","v":4.8810512298658182E-9},{"$f":"'erf Compare'!G123-'erf Compare'!B123","v":0},{"$f":"'erf Compare'!H123-'erf Compare'!B123","v":5.8841820305133297E-15},{"$f":"'erf Compare'!I123-'erf Compare'!B123","v":0}]

{"sheet":"Transport Calc Compare","index":3,"n_rows":30,"n_cols":10,"rows_kept":30,"cut":false,"hidden":false,"merged":[]}
["Parameter",null,"Value"]
["Co",null,1]
["t",null,10]
["v",null,1]
["a",null,0.1]
["Rf",null,1]
[]
["x","term","Series","Winitzki","Abra4","Abra6","Press","Excel","Lether1","Lether2"]
[0,{"$f":"(Rf*A9-v*t)/(2*SQRT(a*v*t*Rf))","v":-5},{"$f":"Co/2*(1-deverf(B9))","v":0.99999999999920064},{"$f":"Co/2*(1-winierf(B9))","v":0.99999999999838929},{"$f":"Co/2*(1-abra4(B9))","v":0.99999995293383237},{"$f":"Co/2*(1-abra6(B9))","v":0.99999999999922617},{"$f":"Co/2*(1-presserf(B9))","v":0.99999999999923128},{"$f":"Co/2*(1-ERF(B9))","v":0.99999999999923128},{"$f":"Co/2*(1-lether1(B9))","v":0.99999999995036615},{"$f":"Co/2*(1-lether2(B9))","v":0.99999999999867883}]
[{"$f":"A9+1","v":1},{"$f":"(Rf*A10-v*t)/(2*SQRT(a*v*t*Rf))","v":-4.5},{"$f":"Co/2*(1-deverf(B10))","v":0.99999999989686672},0.99999999980036081,0.99999978466527861,0.99999999990124566,0.99999999990169197,0.99999999990169197,0.9999999976239109,0.99999999985718857]
[{"$f":"A10+1","v":2},-4,0.99999999181300747,0.99999998473026719,0.99999888155750627,0.99999999226985214,0.9999999922913716,0.99999999229137104,0.99999991966806756,0.99999999019021191]
[3,-3.5,0.99999959837071595,0.99999927583753601,0.99999335045496585,0.99999962789143204,0.99999962845081614,0.9999996284508138,0.99999808197279161,0.99999957175680254]
[4,-3,0.99998895475151217,0.99997859228695296,0.9999549082086624,0.99998894742555111,0.99998895475078919,0.99998895475150062,0.99996765833584589,0.99998811595165649]
[5,-2.5,0.99979652399127894,0.99960363627504234,0.99966209988610533,0.99979648226830298,0.99979652397397634,0.9997965239912775,0.99961486675215472,0.99979022746558188]
[6,-2,0.99766113250947686,0.99539866131125532,0.99743306930628761,0.99766106979060942,0.99766113250533306,0.99766113250947641,0.99676107634754563,0.99764117113815098]
[7,-1.5,0.9830525732376556,0.96679762972510708,0.98317053828050782,0.98305263320148595,0.98305257482523767,0.98305257323765538,0.98076326068746711,0.98304134322632475]
[8,-1,0.92135039647485761,0.85505026196518397,0.92134633169609481,0.92135034487379497,0.92135039388000339,0.9213503964748575,0.91931305764497639,0.92136931224655683]
[9,-0.5,0.76024993890652337,0.6354296218921992,0.76031241365860669,0.76025000815237342,0.76024995386162131,0.76024993890652326,0.76098998103795212,0.76023912358438017]
[10,0,0.5,0.5,0.5,0.5,0.50000001500000024,0.5,0.5,0.5]
[11,0.5,0.23975006109347663,0.3645703781078008,0.23968758634139331,0.23974999184762658,0.23975004613837869,0.23975006109347674,0.23901001896204793,0.23976087641561977]
[12,1,7.8649603525142386E-2,0.14494973803481603,7.8653668303905189E-2,7.8649655126205031E-2,7.8649606119996607E-2,7.8649603525142553E-2,8.0686942355023605E-2,7.8630687753443174E-2]
[13,1.5,1.6947426762344397E-2,3.3202370274892923E-2,1.6829461719492234E-2,1.6947366798513996E-2,1.6947425174762387E-2,1.694742676234462E-2,1.9236739312532891E-2,1.6958656773675251E-2]
[14,2,2.3388674905231999E-3,4.6013386887447383E-3,2.5669306937123326E-3,2.3389302093905773E-3,2.3388674946669963E-3,2.338867490523644E-3,3.238923652454373E-3,2.3588288618490161E-3]
[15,2.5,2.0347600872105964E-4,3.9636372495766015E-4,3.3790011389467356E-4,2.035177316970227E-4,2.0347602602371895E-4,2.0347600872250293E-4,3.851332478452818E-4,2.0977253441811783E-4]
[16,3,1.1045248487773218E-5,2.1407713047039145E-5,4.5091791337603659E-5,1.1052574448888741E-5,1.1045249210750452E-5,1.1045248499319538E-5,3.2341664154167393E-5,1.188404834351342E-5]
[17,3.5,4.0162928399700704E-7,7.2416246399420459E-7,6.6495450340986473E-6,3.7210856801417336E-7,3.7154918380855051E-7,3.7154918619553001E-7,1.918027208336337E-6,4.2824319745893291E-7]
[18,4,8.1869925283584166E-9,1.526973275600696E-8,1.1184424937304982E-6,7.7301479106672843E-9,7.7086284022698237E-9,7.708628957381336E-9,8.0331932383881366E-8,9.8097880929515213E-9]
[19,4.5,1.0313322418298299E-10,1.9963913855391979E-10,2.1533472138735021E-7,9.8754282529256443E-11,9.8308028384508361E-11,9.8308028384508361E-11,2.3760890477397822E-9,1.4281142934891022E-10]
[20,5,7.9930506657888145E-13,1.6107670752774084E-12,4.7066167574438822E-8,7.7388095931496537E-13,7.6871842225045839E-13,7.6871842225045839E-13,4.9633908094648405E-11,1.3211653993039363E-12]
[21,5.5,3.7747582837255322E-15,7.9936057773011271E-15,1.1537691080309997E-8,3.7192471324942744E-15,3.6637359812630166E-15,3.6637359812630166E-15,7.3219208474029074E-13,7.7715611723760958E-15]